BEGIN:VCALENDAR
VERSION:2.0
PRODID:-//Ministerio de Seguridad Pública y Justicia - ECPv5.13.0//NONSGML v1.0//EN
CALSCALE:GREGORIAN
METHOD:PUBLISH
X-WR-CALNAME:Ministerio de Seguridad Pública y Justicia
X-ORIGINAL-URL:https://www.seguridad.gob.sv
X-WR-CALDESC:Events for Ministerio de Seguridad Pública y Justicia
REFRESH-INTERVAL;VALUE=DURATION:PT1H
X-Robots-Tag:noindex
X-PUBLISHED-TTL:PT1H
BEGIN:VTIMEZONE
TZID:America/Chicago
BEGIN:DAYLIGHT
TZOFFSETFROM:-0600
TZOFFSETTO:-0500
TZNAME:CDT
DTSTART:20220313T080000
END:DAYLIGHT
BEGIN:STANDARD
TZOFFSETFROM:-0500
TZOFFSETTO:-0600
TZNAME:CST
DTSTART:20221106T070000
END:STANDARD
END:VTIMEZONE
BEGIN:VEVENT
DTSTART;TZID=America/Chicago:20220905T090000
DTEND;TZID=America/Chicago:20220905T120000
DTSTAMP:20260423T134855
CREATED:20220905T130459Z
LAST-MODIFIED:20220905T130459Z
UID:5250-1662368400-1662379200@www.seguridad.gob.sv
SUMMARY:Convocatoria de Prensa
DESCRIPTION:Nuestro Ministro Gustavo @Vi11atoro y @Director_PNC\, Comisionado Mauricio Arriaza Chicas\, brindarán detalles sobre las últimas capturas realizadas.
URL:https://www.seguridad.gob.sv/actividades/convocatoria-de-prensa-24/
LOCATION:Subdireccón de Investigaciones\, Calle el Progreso\, San Salvador\, Calle el Progreso\, San Salvador\, San Salvador\, 503\, El Salvador
CATEGORIES:Conferencia de Prensa
ATTACH;FMTTYPE=image/jpeg:https://www.seguridad.gob.sv/wp-content/uploads/2022/09/Fb5GjhFWQAMyXGp.jpg
ORGANIZER;CN="Ministerio%20de%20Justicia%20y%20Seguridad%20P%C3%BAbica":MAILTO:webmaster@seguridad.gob.sv
END:VEVENT
END:VCALENDAR