BEGIN:VCALENDAR
VERSION:2.0
PRODID:-//Ministerio de Seguridad Pública y Justicia - ECPv5.13.0//NONSGML v1.0//EN
CALSCALE:GREGORIAN
METHOD:PUBLISH
X-WR-CALNAME:Ministerio de Seguridad Pública y Justicia
X-ORIGINAL-URL:https://www.seguridad.gob.sv
X-WR-CALDESC:Events for Ministerio de Seguridad Pública y Justicia
REFRESH-INTERVAL;VALUE=DURATION:PT1H
X-Robots-Tag:noindex
X-PUBLISHED-TTL:PT1H
BEGIN:VTIMEZONE
TZID:America/Chicago
BEGIN:DAYLIGHT
TZOFFSETFROM:-0600
TZOFFSETTO:-0500
TZNAME:CDT
DTSTART:20240310T080000
END:DAYLIGHT
BEGIN:STANDARD
TZOFFSETFROM:-0500
TZOFFSETTO:-0600
TZNAME:CST
DTSTART:20241103T070000
END:STANDARD
END:VTIMEZONE
BEGIN:VEVENT
DTSTART;TZID=America/Chicago:20240131T170000
DTEND;TZID=America/Chicago:20240131T180000
DTSTAMP:20260422T093647
CREATED:20240131T191420Z
LAST-MODIFIED:20240131T191420Z
UID:8057-1706720400-1706724000@www.seguridad.gob.sv
SUMMARY:Convocatoria de prensa
DESCRIPTION:Con el fin de fortalecer el trabajo en el territorio nacional\, este día\, será entregado nuevo equipamiento a nuestra @PNCSV
URL:https://www.seguridad.gob.sv/actividades/convocatoria-de-prensa-44/
LOCATION:ANSP Comalapa\, San Luis Talpa\, Zacatecoluca\, San Luis Talpa\, El Salvador
CATEGORIES:Conferencia de Prensa
ATTACH;FMTTYPE=image/jpeg:https://www.seguridad.gob.sv/wp-content/uploads/2024/01/GFMKvp8XQAAbpHZ.jpeg
ORGANIZER;CN="Ministerio%20de%20Justicia%20y%20Seguridad%20P%C3%BAbica":MAILTO:webmaster@seguridad.gob.sv
END:VEVENT
END:VCALENDAR