BEGIN:VCALENDAR
VERSION:2.0
PRODID:-//Ministerio de Seguridad Pública y Justicia - ECPv5.13.0//NONSGML v1.0//EN
CALSCALE:GREGORIAN
METHOD:PUBLISH
X-WR-CALNAME:Ministerio de Seguridad Pública y Justicia
X-ORIGINAL-URL:https://www.seguridad.gob.sv
X-WR-CALDESC:Events for Ministerio de Seguridad Pública y Justicia
REFRESH-INTERVAL;VALUE=DURATION:PT1H
X-Robots-Tag:noindex
X-PUBLISHED-TTL:PT1H
BEGIN:VTIMEZONE
TZID:America/Chicago
BEGIN:DAYLIGHT
TZOFFSETFROM:-0600
TZOFFSETTO:-0500
TZNAME:CDT
DTSTART:20210314T080000
END:DAYLIGHT
BEGIN:STANDARD
TZOFFSETFROM:-0500
TZOFFSETTO:-0600
TZNAME:CST
DTSTART:20211107T070000
END:STANDARD
BEGIN:DAYLIGHT
TZOFFSETFROM:-0600
TZOFFSETTO:-0500
TZNAME:CDT
DTSTART:20220313T080000
END:DAYLIGHT
BEGIN:STANDARD
TZOFFSETFROM:-0500
TZOFFSETTO:-0600
TZNAME:CST
DTSTART:20221106T070000
END:STANDARD
END:VTIMEZONE
BEGIN:VEVENT
DTSTART;TZID=America/Chicago:20210616T080000
DTEND;TZID=America/Chicago:20210616T120000
DTSTAMP:20260425T093041
CREATED:20210621T165858Z
LAST-MODIFIED:20210621T170948Z
UID:2270-1623830400-1623844800@www.seguridad.gob.sv
SUMMARY:Incautación de Droga\, Costa del Sol\, El Pimental y El Cuco
DESCRIPTION:Más de 715 kg de droga hemos contabilizado hasta el momento en los operativos en Costa del Sol\, El Pimental y El Cuco. Esto como resultado de la lucha contra el narcotráfico\, gracias al #PlanControlTerritorial.
URL:https://www.seguridad.gob.sv/actividades/conferencia-de-prensa-sobre-incautacion-de-droga/
LOCATION:San Salvador\, El Salvador
CATEGORIES:Conferencia de Prensa
ATTACH;FMTTYPE=image/jpeg:https://www.seguridad.gob.sv/wp-content/uploads/2021/06/E4Amgk_VkAAM3_G.jpeg
ORGANIZER;CN="Ministerio%20de%20Justicia%20y%20Seguridad%20P%C3%BAbica":MAILTO:webmaster@seguridad.gob.sv
END:VEVENT
BEGIN:VEVENT
DTSTART;TZID=America/Chicago:20210621T080000
DTEND;TZID=America/Chicago:20210621T170000
DTSTAMP:20260425T093041
CREATED:20210621T164429Z
LAST-MODIFIED:20210621T170807Z
UID:2265-1624262400-1624294800@www.seguridad.gob.sv
SUMMARY:Incautación de Droga\, Tecoluca\, San Vicente
DESCRIPTION:“El fortalecimiento del #PlanControlTerritorial va dejando resultados a su paso\, junto al apoyo interinstitucional\, hoy presentamos esta nuevo decomiso de droga”
URL:https://www.seguridad.gob.sv/actividades/conferencia-de-prensa/
LOCATION:San Salvador
CATEGORIES:Conferencia de Prensa
ATTACH;FMTTYPE=image/jpeg:https://www.seguridad.gob.sv/wp-content/uploads/2021/06/E4a1H3lX0AMVizb.jpg
ORGANIZER;CN="Ministerio%20de%20Justicia%20y%20Seguridad%20P%C3%BAbica":MAILTO:webmaster@seguridad.gob.sv
END:VEVENT
BEGIN:VEVENT
DTSTART;TZID=America/Chicago:20210625T080000
DTEND;TZID=America/Chicago:20210625T170000
DTSTAMP:20260425T093041
CREATED:20210625T173921Z
LAST-MODIFIED:20210625T214626Z
UID:2288-1624608000-1624640400@www.seguridad.gob.sv
SUMMARY:Presentación de pandillero capturado en Guatemala
DESCRIPTION:#PlanControlTerriorial | El ministro de Justicia y @SeguridadSV\, @Vi11atoro; junto al director de la @PNCSV\, Mauricio Arriaza Chicas (@Director_PNC)\, presentan esta tarde a Ronald Guerrero Catota\, pandillero capturado el 23 de junio en Guatemala.
URL:https://www.seguridad.gob.sv/actividades/presentacion-de-pandillero-capturado-en-guatemala/
LOCATION:San Salvador
CATEGORIES:Conferencia de Prensa
ATTACH;FMTTYPE=image/jpeg:https://www.seguridad.gob.sv/wp-content/uploads/2021/06/E4r2TzXXEAAQdmD.jpg
END:VEVENT
BEGIN:VEVENT
DTSTART;TZID=America/Chicago:20210714T080000
DTEND;TZID=America/Chicago:20210714T093000
DTSTAMP:20260425T093041
CREATED:20210714T151457Z
LAST-MODIFIED:20210714T151554Z
UID:2395-1626249600-1626255000@www.seguridad.gob.sv
SUMMARY:Conferencia de Prensa
DESCRIPTION:Titulares del Gabinete de Seguridad Ampliado brindarán conferencia para informar sobre fuerte incautación de droga\, realizada en las últimas horas.
URL:https://www.seguridad.gob.sv/actividades/conferencia-de-prensa-2/
LOCATION:Laboratorio tecnico cientifico de la PNC.\, San Salvador\, Avenida Bugambilias\, Colonia San Franscisco\, El Salvador
CATEGORIES:Conferencia de Prensa
ATTACH;FMTTYPE=image/jpeg:https://www.seguridad.gob.sv/wp-content/uploads/2021/07/E6Q9vn1XIAMcfXS.jpeg
ORGANIZER;CN="Ministerio%20de%20Justicia%20y%20Seguridad%20P%C3%BAbica":MAILTO:webmaster@seguridad.gob.sv
END:VEVENT
BEGIN:VEVENT
DTSTART;TZID=America/Chicago:20210725T080000
DTEND;TZID=America/Chicago:20210725T170000
DTSTAMP:20260425T093041
CREATED:20210923T173022Z
LAST-MODIFIED:20210923T173022Z
UID:2720-1627200000-1627232400@www.seguridad.gob.sv
SUMMARY:Conferencia de Prensa
DESCRIPTION:Gabinete de Seguridad Ampliado presentará los resultados de una fuerte incautación de droga hecho por la @FUERZARMADASV  en alta mar.
URL:https://www.seguridad.gob.sv/actividades/conferencia-de-prensa-3/
LOCATION:San Salvador
CATEGORIES:Conferencia de Prensa
ATTACH;FMTTYPE=image/jpeg:https://www.seguridad.gob.sv/wp-content/uploads/2021/09/E7JsH4nXIAUiDij.jpg
ORGANIZER;CN="Ministerio%20de%20Justicia%20y%20Seguridad%20P%C3%BAbica":MAILTO:webmaster@seguridad.gob.sv
END:VEVENT
BEGIN:VEVENT
DTSTART;TZID=America/Chicago:20210726T080000
DTEND;TZID=America/Chicago:20210726T170000
DTSTAMP:20260425T093041
CREATED:20210923T173424Z
LAST-MODIFIED:20210923T173424Z
UID:2723-1627286400-1627318800@www.seguridad.gob.sv
SUMMARY:Acto de Juramentación de Promoción #124
DESCRIPTION:Los agentes de policía que hoy se juramentan tienen el firme compromiso de servir y proteger ante todo. A partir de hoy se suman al trabajo que impulsamos a través del #PlanControlTerritorial\, la política más exitosa que ha tenido el país en materia de seguridad en su historia. \n 
URL:https://www.seguridad.gob.sv/actividades/acto-de-juramentacion-de-promocion-124/
LOCATION:San Salvador
CATEGORIES:Conferencia de Prensa
ATTACH;FMTTYPE=image/jpeg:https://www.seguridad.gob.sv/wp-content/uploads/2021/09/E7O8dxHX0AUeSDH.jpg
ORGANIZER;CN="Ministerio%20de%20Justicia%20y%20Seguridad%20P%C3%BAbica":MAILTO:webmaster@seguridad.gob.sv
END:VEVENT
BEGIN:VEVENT
DTSTART;TZID=America/Chicago:20210727T080000
DTEND;TZID=America/Chicago:20210727T170000
DTSTAMP:20260425T093041
CREATED:20210923T173819Z
LAST-MODIFIED:20210923T173905Z
UID:2726-1627372800-1627405200@www.seguridad.gob.sv
SUMMARY:Reforma Histórica para combatir la Corrupción
DESCRIPTION:Conferencia de Prensa
URL:https://www.seguridad.gob.sv/actividades/reforma-historica-para-combatir-la-corrupcion/
LOCATION:San Salvador
CATEGORIES:Conferencia de Prensa
ATTACH;FMTTYPE=image/jpeg:https://www.seguridad.gob.sv/wp-content/uploads/2021/09/E7U4UdSXEAApqDQ.jpg
ORGANIZER;CN="Ministerio%20de%20Justicia%20y%20Seguridad%20P%C3%BAbica":MAILTO:webmaster@seguridad.gob.sv
END:VEVENT
BEGIN:VEVENT
DTSTART;TZID=America/Chicago:20210728T080000
DTEND;TZID=America/Chicago:20210728T170000
DTSTAMP:20260425T093041
CREATED:20210923T174106Z
LAST-MODIFIED:20210923T174237Z
UID:2730-1627459200-1627491600@www.seguridad.gob.sv
SUMMARY:Detalles sobre resultado de operativos realizados
DESCRIPTION:Esta tarde\, el Ministro de Justicia y Seguridad\, @Vi11atoro\, junto al @FiscalGeneralSV\, ofrecerán detalles sobre los resultados de los operativos realizados\, en coordinación con la @PNCSV\, en las últimas horas.
URL:https://www.seguridad.gob.sv/actividades/detalles-sobre-resultado-de-operativos-realizados/
LOCATION:División Antinarcoticos de la PNC\, San Salvador\, San salvador\, 503\, El Salvador
CATEGORIES:Conferencia de Prensa
ATTACH;FMTTYPE=image/jpeg:https://www.seguridad.gob.sv/wp-content/uploads/2021/09/E7Zo1IgXIAI7Coj.jpg
ORGANIZER;CN="Ministerio%20de%20Justicia%20y%20Seguridad%20P%C3%BAbica":MAILTO:webmaster@seguridad.gob.sv
END:VEVENT
BEGIN:VEVENT
DTSTART;TZID=America/Chicago:20210805T080000
DTEND;TZID=America/Chicago:20210805T170000
DTSTAMP:20260425T093041
CREATED:20210923T174612Z
LAST-MODIFIED:20210923T174612Z
UID:2734-1628150400-1628182800@www.seguridad.gob.sv
SUMMARY:Presentación de Droga Incautada en Altamar
DESCRIPTION:Gabinete de Seguridad Ampliado presentará los resultados de una fuerte incautación de droga realizado por la @FUERZARMADASV en alta mar.
URL:https://www.seguridad.gob.sv/actividades/presentacion-de-droga-incautada-en-altamar/
LOCATION:Destacamento Naval\, La Concordia\, Costa del Sol\, La Paz\, La Paz\, 503\, El Salvador
CATEGORIES:Conferencia de Prensa
ATTACH;FMTTYPE=image/jpeg:https://www.seguridad.gob.sv/wp-content/uploads/2021/09/E8CxqrKXEAIN2K8.jpg
ORGANIZER;CN="Ministerio%20de%20Justicia%20y%20Seguridad%20P%C3%BAbica":MAILTO:webmaster@seguridad.gob.sv
END:VEVENT
BEGIN:VEVENT
DTSTART;VALUE=DATE:20210812
DTEND;VALUE=DATE:20210813
DTSTAMP:20260425T093041
CREATED:20210923T174948Z
LAST-MODIFIED:20210923T175132Z
UID:2739-1628726400-1628812799@www.seguridad.gob.sv
SUMMARY:Inauguración del Quinto Torneo de la Copa Liga Atlética Policial (LAP)
DESCRIPTION:Este día\, el Ministro de @SeguridadSV\, @Vi11atoro\, el @Director_PNC y personeros de @USEmbassySV; inaugurarán la Liga Atlética Policial\, un programa de prevención de la violencia que beneficia directamente a la niñez y adolescencia.
URL:https://www.seguridad.gob.sv/actividades/inauguracion-del-quinto-torneo-de-la-copa-liga-atletica-policial-lap/
LOCATION:Centro Recreativo del Ministerio de Hacienda\, San Bartolo\, Ilopango\, San Salvador\, 503\, El Salvador
CATEGORIES:Conferencia de Prensa
ATTACH;FMTTYPE=image/jpeg:https://www.seguridad.gob.sv/wp-content/uploads/2021/09/E8m8iLvXIAYBH8D.jpg
ORGANIZER;CN="Ministerio%20de%20Justicia%20y%20Seguridad%20P%C3%BAbica":MAILTO:webmaster@seguridad.gob.sv
END:VEVENT
BEGIN:VEVENT
DTSTART;VALUE=DATE:20210905
DTEND;VALUE=DATE:20210906
DTSTAMP:20260425T093041
CREATED:20210923T175826Z
LAST-MODIFIED:20210923T175940Z
UID:2744-1630800000-1630886399@www.seguridad.gob.sv
SUMMARY:Despliegue de Dispositivo de Seguridad en el Estadio Cuscatlán para el partido entre El Salvador y Honduras
DESCRIPTION:Para asegurarnos que disfrutes del partido entre @LaSelecta_SLV vs. Honduras\, ejecutaremos el plan de seguridad que garantizará el orden y tranquilidad de la afición cuscatleca.
URL:https://www.seguridad.gob.sv/actividades/despliegue-de-dispositivo-de-seguridad-en-el-estadio-cuscatlan-para-el-partido-entre-el-salvador-y-honduras/
LOCATION:Estadio Cuscatlán\, San Salvador\, San salvador\, San Salvador\, 503
CATEGORIES:Conferencia de Prensa
ATTACH;FMTTYPE=image/jpeg:https://www.seguridad.gob.sv/wp-content/uploads/2021/09/E-ivy3wX0AAlCEs.jpg
END:VEVENT
BEGIN:VEVENT
DTSTART;TZID=America/Chicago:20210909T080000
DTEND;TZID=America/Chicago:20210909T170000
DTSTAMP:20260425T093041
CREATED:20210923T190712Z
LAST-MODIFIED:20210923T190712Z
UID:2749-1631174400-1631206800@www.seguridad.gob.sv
SUMMARY:Conferencia de Prensa para presentar detalles sobre Operativo Anticorrupción
DESCRIPTION:Titulares de @SeguridadSV @PNCSV  y @FGR_SV brindarán más detalles con relación a las últimas capturas efectuadas este día.
URL:https://www.seguridad.gob.sv/actividades/conferencia-de-prensa-para-presentar-detalles-sobre-operativo-anticorrupcion/
LOCATION:División Antinarcoticos de la PNC\, San Salvador\, San salvador\, 503\, El Salvador
CATEGORIES:Conferencia de Prensa
ATTACH;FMTTYPE=image/jpeg:https://www.seguridad.gob.sv/wp-content/uploads/2021/09/E-4iTWiWEAM9DeZ-1.jpg
ORGANIZER;CN="Ministerio%20de%20Justicia%20y%20Seguridad%20P%C3%BAbica":MAILTO:webmaster@seguridad.gob.sv
END:VEVENT
BEGIN:VEVENT
DTSTART;TZID=America/Chicago:20210921T080000
DTEND;TZID=America/Chicago:20210921T170000
DTSTAMP:20260425T093041
CREATED:20210923T191339Z
LAST-MODIFIED:20210923T191339Z
UID:2753-1632211200-1632243600@www.seguridad.gob.sv
SUMMARY:Presentación de Sujetos detenidos en los operativos realizados en el Departamento de Cuscatlán y en el Oriente del País.
DESCRIPTION:Titulares del gabinete de Seguridad y Justicia brindarán detalles sobre las capturas efectuadas en las últimas horas.
URL:https://www.seguridad.gob.sv/actividades/presentacion-de-sujetos-detenidos-en-los-operativos-realizados-en-el-departamento-de-cuscatlan-y-en-el-oriente-del-pais/
LOCATION:Delegación de la PNC en Usulután\, 9a Calle Oriente y 4a avenida sur\, Usulután\, Usulután\, 503\, El Salvador
CATEGORIES:Conferencia de Prensa
ATTACH;FMTTYPE=image/jpeg:https://www.seguridad.gob.sv/wp-content/uploads/2021/09/E_1L_ihVgAovxDx.jpg
END:VEVENT
BEGIN:VEVENT
DTSTART;TZID=America/Chicago:20210923T080000
DTEND;TZID=America/Chicago:20210923T170000
DTSTAMP:20260425T093041
CREATED:20210923T191738Z
LAST-MODIFIED:20210923T191738Z
UID:2758-1632384000-1632416400@www.seguridad.gob.sv
SUMMARY:Conferencia de Prensa\, detalles de los últimos resultados de la operatividad contra la criminalidad.
DESCRIPTION:Titulares del Gabinete de @SeguridadSV y @FiscalGeneralSV brindarán detalles sobre los resultados de operatividad efectuadas contra la criminalidad.
URL:https://www.seguridad.gob.sv/actividades/conferencia-de-prensa-detalles-de-los-ultimos-resultados-de-la-operatividad-contra-la-criminalidad/
LOCATION:Castillo de la PNC\, San Salvador\, San salvador\, San Salvador\, 503\, El Salvador
CATEGORIES:Conferencia de Prensa
ATTACH;FMTTYPE=image/jpeg:https://www.seguridad.gob.sv/wp-content/uploads/2021/09/E__Cx2dVEAYj9ua.jpg
ORGANIZER;CN="Ministerio%20de%20Justicia%20y%20Seguridad%20P%C3%BAbica":MAILTO:webmaster@seguridad.gob.sv
END:VEVENT
BEGIN:VEVENT
DTSTART;TZID=America/Chicago:20211018T090000
DTEND;TZID=America/Chicago:20211018T100000
DTSTAMP:20260425T093041
CREATED:20211018T141918Z
LAST-MODIFIED:20211018T141955Z
UID:2848-1634547600-1634551200@www.seguridad.gob.sv
SUMMARY:Conferencia de Prensa
DESCRIPTION:Autoridades del gabinete de seguridad y @FiscalGeneralSV brindan detalles sobre las capturas de los responsables de cuádruple homicidio.
URL:https://www.seguridad.gob.sv/actividades/conferencia-de-prensa-4/
LOCATION:San Salvador
CATEGORIES:Conferencia de Prensa
ATTACH;FMTTYPE=image/jpeg:https://www.seguridad.gob.sv/wp-content/uploads/2021/10/FB-hs7XEAAk-z.jpg
END:VEVENT
BEGIN:VEVENT
DTSTART;TZID=America/Chicago:20211108T120000
DTEND;TZID=America/Chicago:20211108T130000
DTSTAMP:20260425T093041
CREATED:20211108T185109Z
LAST-MODIFIED:20211108T185215Z
UID:2890-1636372800-1636376400@www.seguridad.gob.sv
SUMMARY:Conferencia de Prensa
DESCRIPTION:#ConvocatoriaDePrensa | Titulares del Gabinete de @SeguridadSV  y @FGR_SV brindarán detalles sobre la captura de los sujetos involucrados en el caso de desaparición de los hermanos Guerrero.
URL:https://www.seguridad.gob.sv/actividades/conferencia-de-prensa-5/
LOCATION:San Salvador
CATEGORIES:Conferencia de Prensa
ATTACH;FMTTYPE=image/jpeg:https://www.seguridad.gob.sv/wp-content/uploads/2021/11/FDr8RLxX0AoBZ-N.jpg
ORGANIZER;CN="Ministerio%20de%20Justicia%20y%20Seguridad%20P%C3%BAbica":MAILTO:webmaster@seguridad.gob.sv
END:VEVENT
BEGIN:VEVENT
DTSTART;TZID=America/Chicago:20211221T060000
DTEND;TZID=America/Chicago:20211221T070000
DTSTAMP:20260425T093041
CREATED:20211221T130840Z
LAST-MODIFIED:20211221T130840Z
UID:2998-1640066400-1640070000@www.seguridad.gob.sv
SUMMARY:Convocatoria de Prensa
DESCRIPTION:Titulares del Gabinete de Seguridad\, Ministro @Vi11atoro\, Ministro @merino_monroy  y @Director_PNC; presentarán a sujetos capturados por asaltar en unidad del transporte colectivo\, hecho que se viralizó en redes sociales.
URL:https://www.seguridad.gob.sv/actividades/convocatoria-de-prensa/
LOCATION:San Salvador
CATEGORIES:Conferencia de Prensa
ATTACH;FMTTYPE=image/jpeg:https://www.seguridad.gob.sv/wp-content/uploads/2021/12/FHGtPK9XoAMYaH3.jpg
ORGANIZER;CN="Ministerio%20de%20Justicia%20y%20Seguridad%20P%C3%BAbica":MAILTO:webmaster@seguridad.gob.sv
END:VEVENT
BEGIN:VEVENT
DTSTART;TZID=America/Chicago:20220105T100000
DTEND;TZID=America/Chicago:20220105T120000
DTSTAMP:20260425T093041
CREATED:20220105T141308Z
LAST-MODIFIED:20220105T141308Z
UID:3063-1641376800-1641384000@www.seguridad.gob.sv
SUMMARY:Convocatoria de Prensa
DESCRIPTION:Este día\, titulares de @SeguridadSV y @FGR_SV  brindarán más detalles con relación a captura de cabecillas de la pandilla MS.
URL:https://www.seguridad.gob.sv/actividades/convocatoria-de-prensa-2/
LOCATION:Distrito Italia\, Tonacatepeque\, Tonacatepeque\, San salvador\, San Salvador\, 203\, El Salvador
CATEGORIES:Conferencia de Prensa
ATTACH;FMTTYPE=image/jpeg:https://www.seguridad.gob.sv/wp-content/uploads/2022/01/FIV9-OsXIAE0xqE.jpg
ORGANIZER;CN="Ministerio%20de%20Justicia%20y%20Seguridad%20P%C3%BAbica":MAILTO:webmaster@seguridad.gob.sv
END:VEVENT
BEGIN:VEVENT
DTSTART;TZID=America/Chicago:20220110T063000
DTEND;TZID=America/Chicago:20220110T080000
DTSTAMP:20260425T093041
CREATED:20220110T133519Z
LAST-MODIFIED:20220110T133519Z
UID:3090-1641796200-1641801600@www.seguridad.gob.sv
SUMMARY:Convocatoria de Prensa
DESCRIPTION:#ConvocatoriaDePrensa Realizamos operativo contra en narcotráfico y como resultado\, hemos dado el primer fuerte golpe en este 2022.
URL:https://www.seguridad.gob.sv/actividades/convocatoria-de-prensa-3/
LOCATION:San Salvador
CATEGORIES:Conferencia de Prensa
ATTACH;FMTTYPE=image/jpeg:https://www.seguridad.gob.sv/wp-content/uploads/2022/01/FItwq-JWUAoRu5I.jpg
ORGANIZER;CN="Ministerio%20de%20Justicia%20y%20Seguridad%20P%C3%BAbica":MAILTO:webmaster@seguridad.gob.sv
END:VEVENT
BEGIN:VEVENT
DTSTART;TZID=America/Chicago:20220112T140000
DTEND;TZID=America/Chicago:20220112T150000
DTSTAMP:20260425T093041
CREATED:20220112T180033Z
LAST-MODIFIED:20220112T180033Z
UID:3110-1641996000-1641999600@www.seguridad.gob.sv
SUMMARY:Conferencia de Prensa
DESCRIPTION:#ConvocatoriaDePrensa Este día procederemos en coordinación con @FGR_SV\, a la destrucción de droga incautada por @FUERZARMADASV el pasado 27 de diciembre en altamar. Más de cuatro toneladas serán destruidas\, valoradas en más de $104\,000\,000.
URL:https://www.seguridad.gob.sv/actividades/conferencia-de-prensa-6/
LOCATION:San Salvador
CATEGORIES:Conferencia de Prensa
ATTACH;FMTTYPE=image/jpeg:https://www.seguridad.gob.sv/wp-content/uploads/2022/01/FI6swg3XIAAOOfq.jpg
ORGANIZER;CN="Ministerio%20de%20Justicia%20y%20Seguridad%20P%C3%BAbica":MAILTO:webmaster@seguridad.gob.sv
END:VEVENT
BEGIN:VEVENT
DTSTART;TZID=America/Chicago:20220113T120000
DTEND;TZID=America/Chicago:20220113T130000
DTSTAMP:20260425T093041
CREATED:20220113T164431Z
LAST-MODIFIED:20220113T164431Z
UID:3116-1642075200-1642078800@www.seguridad.gob.sv
SUMMARY:Conferencia de Prensa
DESCRIPTION:#ConvocatoriaDePrensa || Titulares del Gabinete de Seguridad y de @FGR_SV darán a conocer destacables capturas.
URL:https://www.seguridad.gob.sv/actividades/conferencia-de-prensa-7/
LOCATION:San Salvador
CATEGORIES:Conferencia de Prensa
ATTACH;FMTTYPE=image/jpeg:https://www.seguridad.gob.sv/wp-content/uploads/2022/01/FI_ZaHPVUAYa3x8.jpg
ORGANIZER;CN="Ministerio%20de%20Justicia%20y%20Seguridad%20P%C3%BAbica":MAILTO:webmaster@seguridad.gob.sv
END:VEVENT
BEGIN:VEVENT
DTSTART;TZID=America/Chicago:20220119T090000
DTEND;TZID=America/Chicago:20220119T093000
DTSTAMP:20260425T093041
CREATED:20220119T134338Z
LAST-MODIFIED:20220119T134338Z
UID:3135-1642582800-1642584600@www.seguridad.gob.sv
SUMMARY:Convocatoria de Prensa
DESCRIPTION:#ConvocatoriaDePrensa || Significativas capturas se han dado en los últimos días\, como parte del trabajo interinstitucional entre @SeguridadSV \, @FUERZARMADASV  y @FGR_SV.
URL:https://www.seguridad.gob.sv/actividades/convocatoria-de-prensa-4/
LOCATION:Subdireccón de Investigaciones\, Calle el Progreso\, San Salvador\, Calle el Progreso\, San Salvador\, San Salvador\, 503\, El Salvador
CATEGORIES:Conferencia de Prensa
ATTACH;FMTTYPE=image/jpeg:https://www.seguridad.gob.sv/wp-content/uploads/2022/01/FJd0tKeXEAgAb65.jpg
ORGANIZER;CN="Ministerio%20de%20Justicia%20y%20Seguridad%20P%C3%BAbica":MAILTO:webmaster@seguridad.gob.sv
END:VEVENT
BEGIN:VEVENT
DTSTART;TZID=America/Chicago:20220204T120000
DTEND;TZID=America/Chicago:20220204T140000
DTSTAMP:20260425T093041
CREATED:20220204T143015Z
LAST-MODIFIED:20220204T143015Z
UID:3175-1643976000-1643983200@www.seguridad.gob.sv
SUMMARY:Conferencia de Prensa
DESCRIPTION:#ConvocatoriaDePrensa | Este día\, titulares de @SeguridadSV  y @FGR_SV  brindarán más detalles con relación a nueva incautación de droga.
URL:https://www.seguridad.gob.sv/actividades/conferencia-de-prensa-8/
LOCATION:San Salvador
CATEGORIES:Conferencia de Prensa
ATTACH;FMTTYPE=image/jpeg:https://www.seguridad.gob.sv/wp-content/uploads/2022/02/FKwkcagWYAcAUMa.jpg
ORGANIZER;CN="Ministerio%20de%20Justicia%20y%20Seguridad%20P%C3%BAbica":MAILTO:webmaster@seguridad.gob.sv
END:VEVENT
BEGIN:VEVENT
DTSTART;TZID=America/Chicago:20220204T160000
DTEND;TZID=America/Chicago:20220204T170000
DTSTAMP:20260425T093041
CREATED:20220204T205641Z
LAST-MODIFIED:20220204T205641Z
UID:3182-1643990400-1643994000@www.seguridad.gob.sv
SUMMARY:Conferencia de Prensa
DESCRIPTION:#ConvocatoriaDePrensa | Esta tarde\, titulares de @SeguridadSV  y @FGR_SV  brindarán más detalles con relación a doble homicidio ocurrido en Rosario de Mora.
URL:https://www.seguridad.gob.sv/actividades/conferencia-de-prensa-9/
LOCATION:San Salvador
CATEGORIES:Conferencia de Prensa
ATTACH;FMTTYPE=image/jpeg:https://www.seguridad.gob.sv/wp-content/uploads/2022/02/FKx9DFqXMAIRueU.jpg
ORGANIZER;CN="Ministerio%20de%20Justicia%20y%20Seguridad%20P%C3%BAbica":MAILTO:webmaster@seguridad.gob.sv
END:VEVENT
BEGIN:VEVENT
DTSTART;TZID=America/Chicago:20220217T090000
DTEND;TZID=America/Chicago:20220217T110000
DTSTAMP:20260425T093041
CREATED:20220217T131305Z
LAST-MODIFIED:20220217T131305Z
UID:3246-1645088400-1645095600@www.seguridad.gob.sv
SUMMARY:Convocatoria de Prensa
DESCRIPTION:#ConvocatoriaDePrensa | Titulares del Gabinete de @SeguridadSV\, @PNCSV y @aduanas_SV brindarán detalles sobre importante decomiso en las últimas horas.
URL:https://www.seguridad.gob.sv/actividades/convocatoria-de-prensa-5/
LOCATION:Aduana San Bartolo\, Ilopango\, San Bartolo\, Ilopango\, Ilopango\, 503\, El Salvador
CATEGORIES:Conferencia de Prensa
ATTACH;FMTTYPE=image/jpeg:https://www.seguridad.gob.sv/wp-content/uploads/2022/02/FLxXBqHXwAcz4O4.jpg
ORGANIZER;CN="Ministerio%20de%20Justicia%20y%20Seguridad%20P%C3%BAbica":MAILTO:webmaster@seguridad.gob.sv
END:VEVENT
BEGIN:VEVENT
DTSTART;TZID=America/Chicago:20220223T090000
DTEND;TZID=America/Chicago:20220223T103000
DTSTAMP:20260425T093041
CREATED:20220223T142136Z
LAST-MODIFIED:20220223T142136Z
UID:3269-1645606800-1645612200@www.seguridad.gob.sv
SUMMARY:Convocatoria de Prensa
DESCRIPTION:Convocatoria de Prensa para Medios de Comunicación.
URL:https://www.seguridad.gob.sv/actividades/convocatoria-de-prensa-6/
LOCATION:División Antinarcoticos de la PNC\, San Salvador\, San salvador\, 503\, El Salvador
CATEGORIES:Conferencia de Prensa
ATTACH;FMTTYPE=image/jpeg:https://www.seguridad.gob.sv/wp-content/uploads/2022/02/FMSHdfXXwAMjM-b.jpg
ORGANIZER;CN="Ministerio%20de%20Justicia%20y%20Seguridad%20P%C3%BAbica":MAILTO:webmaster@seguridad.gob.sv
END:VEVENT
BEGIN:VEVENT
DTSTART;TZID=America/Chicago:20220303T120000
DTEND;TZID=America/Chicago:20220303T130000
DTSTAMP:20260425T093041
CREATED:20220303T153033Z
LAST-MODIFIED:20220303T153033Z
UID:3295-1646308800-1646312400@www.seguridad.gob.sv
SUMMARY:Conferencia de Prensa
DESCRIPTION:#ConvocatoriaDePrensa | Titulares del Gabinete de @SeguridadSV\, @PNCSV y @FGR_SV brindarán detalles de capturas realizadas en los últimos días.
URL:https://www.seguridad.gob.sv/actividades/convocatoria-de-prensa-7/
LOCATION:Nuevo Lourdes\, Colón\, Nuevo Lourdes\, Colón\, La Libertad\, La Libertad\, 503\, El Salvador
CATEGORIES:Conferencia de Prensa
ATTACH;FMTTYPE=image/jpeg:https://www.seguridad.gob.sv/wp-content/uploads/2022/03/FM7wvNEUUAcSThG.jpg
ORGANIZER;CN="Ministerio%20de%20Justicia%20y%20Seguridad%20P%C3%BAbica":MAILTO:webmaster@seguridad.gob.sv
END:VEVENT
BEGIN:VEVENT
DTSTART;TZID=America/Chicago:20220309T170000
DTEND;TZID=America/Chicago:20220309T180000
DTSTAMP:20260425T093041
CREATED:20220309T184936Z
LAST-MODIFIED:20220309T185124Z
UID:3322-1646845200-1646848800@www.seguridad.gob.sv
SUMMARY:Convocatoria de Prensa
DESCRIPTION:#ConvocatoriaDePrensa | Titulares del Gabinete de @SeguridadSV\, Ministro @Vi11atoro\, y @Director_PNC\, Comisionado Mauricio Arriaza Chicas; presidirán la entrega oficial de vehículos a  \n@PNCSV\, para uso de combate contra el crimen.
URL:https://www.seguridad.gob.sv/actividades/convocatoria-de-prensa-8/
LOCATION:Centro de Investigación Forense\, Nuevo Cuscatlán\, La Libertad\, La Libertad\, 503\, El Salvador
CATEGORIES:Conferencia de Prensa
ATTACH;FMTTYPE=image/jpeg:https://www.seguridad.gob.sv/wp-content/uploads/2022/03/ConvocatoriaPrensa.jpg
ORGANIZER;CN="Ministerio%20de%20Justicia%20y%20Seguridad%20P%C3%BAbica":MAILTO:webmaster@seguridad.gob.sv
END:VEVENT
BEGIN:VEVENT
DTSTART;TZID=America/Chicago:20220311T120000
DTEND;TZID=America/Chicago:20220311T130000
DTSTAMP:20260425T093041
CREATED:20220311T174917Z
LAST-MODIFIED:20220311T174936Z
UID:3336-1647000000-1647003600@www.seguridad.gob.sv
SUMMARY:Convocatoria de Prensa
DESCRIPTION:#ConvocatoriaDePrensa | Titulares del Gabinete de @SeguridadSV y @FGR_SV brindarán detalles de incautación efectuada esta madrugada en San Miguel.
URL:https://www.seguridad.gob.sv/actividades/convocatoria-de-prensa-9/
LOCATION:División Antinarcoticos de la PNC\, San Salvador\, San salvador\, 503\, El Salvador
CATEGORIES:Conferencia de Prensa
ATTACH;FMTTYPE=image/jpeg:https://www.seguridad.gob.sv/wp-content/uploads/2022/03/DAN.jpg
ORGANIZER;CN="Ministerio%20de%20Justicia%20y%20Seguridad%20P%C3%BAbica":MAILTO:webmaster@seguridad.gob.sv
END:VEVENT
BEGIN:VEVENT
DTSTART;TZID=America/Chicago:20220322T120000
DTEND;TZID=America/Chicago:20220322T130000
DTSTAMP:20260425T093041
CREATED:20220322T164315Z
LAST-MODIFIED:20220322T164315Z
UID:3435-1647950400-1647954000@www.seguridad.gob.sv
SUMMARY:Conferencia de Prensa
DESCRIPTION:#ConvocatoriaDePrensa | Titulares del Gabinete de Seguridad\, Ministro @Vi11atoro\, @Director_PNC  y @FiscalGeneralSV\, compartirán detalles sobre capturas realizadas en los últimos días.
URL:https://www.seguridad.gob.sv/actividades/conferencia-de-prensa-10/
LOCATION:Subdireccón de Investigaciones\, Calle el Progreso\, San Salvador\, Calle el Progreso\, San Salvador\, San Salvador\, 503\, El Salvador
CATEGORIES:Conferencia de Prensa
ATTACH;FMTTYPE=image/jpeg:https://www.seguridad.gob.sv/wp-content/uploads/2022/03/FOd7TfZWQBcv4Fa.jpg
ORGANIZER;CN="Ministerio%20de%20Justicia%20y%20Seguridad%20P%C3%BAbica":MAILTO:webmaster@seguridad.gob.sv
END:VEVENT
END:VCALENDAR