BEGIN:VCALENDAR
VERSION:2.0
PRODID:-//Ministerio de Seguridad Pública y Justicia - ECPv5.13.0//NONSGML v1.0//EN
CALSCALE:GREGORIAN
METHOD:PUBLISH
X-WR-CALNAME:Ministerio de Seguridad Pública y Justicia
X-ORIGINAL-URL:https://www.seguridad.gob.sv
X-WR-CALDESC:Events for Ministerio de Seguridad Pública y Justicia
REFRESH-INTERVAL;VALUE=DURATION:PT1H
X-Robots-Tag:noindex
X-PUBLISHED-TTL:PT1H
BEGIN:VTIMEZONE
TZID:America/Chicago
BEGIN:DAYLIGHT
TZOFFSETFROM:-0600
TZOFFSETTO:-0500
TZNAME:CDT
DTSTART:20220313T080000
END:DAYLIGHT
BEGIN:STANDARD
TZOFFSETFROM:-0500
TZOFFSETTO:-0600
TZNAME:CST
DTSTART:20221106T070000
END:STANDARD
BEGIN:DAYLIGHT
TZOFFSETFROM:-0600
TZOFFSETTO:-0500
TZNAME:CDT
DTSTART:20230312T080000
END:DAYLIGHT
BEGIN:STANDARD
TZOFFSETFROM:-0500
TZOFFSETTO:-0600
TZNAME:CST
DTSTART:20231105T070000
END:STANDARD
END:VTIMEZONE
BEGIN:VEVENT
DTSTART;TZID=America/Chicago:20220503T140000
DTEND;TZID=America/Chicago:20220503T150000
DTSTAMP:20260423T183112
CREATED:20220503T193346Z
LAST-MODIFIED:20220503T193346Z
UID:3713-1651586400-1651590000@www.seguridad.gob.sv
SUMMARY:Convocatoria de Prensa
DESCRIPTION:#ConvocatoriaDePrensa | Esta tarde\, titulares del Gabinete de Seguridad brindarán una conferencia de prensa para informar detalles sobre la captura de peligrosos terroristas de la estructura MS.
URL:https://www.seguridad.gob.sv/actividades/convocatoria-de-prensa-11/
LOCATION:Centro de Investigación Forense\, Nuevo Cuscatlán\, La Libertad\, La Libertad\, 503\, El Salvador
CATEGORIES:Conferencia de Prensa
ATTACH;FMTTYPE=image/jpeg:https://www.seguridad.gob.sv/wp-content/uploads/2022/05/FR2xANIWUAAGpv9.jpg
ORGANIZER;CN="Ministerio%20de%20Justicia%20y%20Seguridad%20P%C3%BAbica":MAILTO:webmaster@seguridad.gob.sv
END:VEVENT
BEGIN:VEVENT
DTSTART;TZID=America/Chicago:20220505T160000
DTEND;TZID=America/Chicago:20220505T170000
DTSTAMP:20260423T183112
CREATED:20220505T202953Z
LAST-MODIFIED:20220505T203132Z
UID:3728-1651766400-1651770000@www.seguridad.gob.sv
SUMMARY:Conferencia de Prensa
DESCRIPTION:#ConvocatoriaDePrensa | Esta tarde\, el Ministro Gustavo @Vi11atoro realizará entrega de nuevo equipamiento a la @PNCSV para el combate a la delincuencia.
URL:https://www.seguridad.gob.sv/actividades/conferencia-de-prensa-11/
LOCATION:Castillo de la PNC\, San Salvador\, San salvador\, San Salvador\, 503\, El Salvador
CATEGORIES:Conferencia de Prensa
ATTACH;FMTTYPE=image/jpeg:https://www.seguridad.gob.sv/wp-content/uploads/2022/05/FSBVyYOWYAExwpr.jpg
ORGANIZER;CN="Ministerio%20de%20Justicia%20y%20Seguridad%20P%C3%BAbica":MAILTO:webmaster@seguridad.gob.sv
END:VEVENT
BEGIN:VEVENT
DTSTART;TZID=America/Chicago:20220511T123000
DTEND;TZID=America/Chicago:20220511T130000
DTSTAMP:20260423T183112
CREATED:20220511T183633Z
LAST-MODIFIED:20220511T183633Z
UID:3760-1652272200-1652274000@www.seguridad.gob.sv
SUMMARY:Convocatoria de Prensa
DESCRIPTION:#ConvocatoriaDePrensa | Ministro Gustavo @Vi11atoro\, acompañado de autoridades de la @PNCSV\, presentarán ante la @AsambleaSV anteproyecto de Ley de Compensación para retiro de elementos de la @PNCSV. \n.
URL:https://www.seguridad.gob.sv/actividades/convocatoria-de-prensa-12/
LOCATION:Asamblea Legislativa\, 17 avenida norte\, San Salvador\, San Salvador\, 503\, El Salvador
CATEGORIES:Conferencia de Prensa
ATTACH;FMTTYPE=image/jpeg:https://www.seguridad.gob.sv/wp-content/uploads/2022/05/FSft53RWQAMle92.jpg
ORGANIZER;CN="Ministerio%20de%20Justicia%20y%20Seguridad%20P%C3%BAbica":MAILTO:webmaster@seguridad.gob.sv
END:VEVENT
BEGIN:VEVENT
DTSTART;TZID=America/Chicago:20220525T120000
DTEND;TZID=America/Chicago:20220525T130000
DTSTAMP:20260423T183112
CREATED:20220525T175349Z
LAST-MODIFIED:20220525T175349Z
UID:3877-1653480000-1653483600@www.seguridad.gob.sv
SUMMARY:Convocatoria de Prensa
DESCRIPTION:Titulares del Gabinete de @SeguridadSV presentarán a la @AsambleaSV solicitud de prórroga de Régimen de Excepción.
URL:https://www.seguridad.gob.sv/actividades/convocatoria-de-prensa-13/
LOCATION:Asamblea Legislativa\, 17 avenida norte\, San Salvador\, San Salvador\, 503\, El Salvador
CATEGORIES:Conferencia de Prensa
ATTACH;FMTTYPE=image/jpeg:https://www.seguridad.gob.sv/wp-content/uploads/2022/05/FTnnX1CXoAEiiHe.jpg
ORGANIZER;CN="Ministerio%20de%20Justicia%20y%20Seguridad%20P%C3%BAbica":MAILTO:webmaster@seguridad.gob.sv
END:VEVENT
BEGIN:VEVENT
DTSTART;TZID=America/Chicago:20220526T100000
DTEND;TZID=America/Chicago:20220526T113000
DTSTAMP:20260423T183112
CREATED:20220526T142808Z
LAST-MODIFIED:20220526T142808Z
UID:3891-1653559200-1653564600@www.seguridad.gob.sv
SUMMARY:Convocatoria de Prensa
DESCRIPTION:Este día\, Ministro Gustavo @Vi11atoro realizará la entrega oficial de una flota de vehículos a nuestra @PNCSV.
URL:https://www.seguridad.gob.sv/actividades/convocatoria-de-prensa-14/
LOCATION:ANSP Comalapa\, San Luis Talpa\, Zacatecoluca\, San Luis Talpa\, El Salvador
CATEGORIES:Conferencia de Prensa
ATTACH;FMTTYPE=image/jpeg:https://www.seguridad.gob.sv/wp-content/uploads/2022/05/FTsMqGHXoAAI-mp.jpg
ORGANIZER;CN="Ministerio%20de%20Justicia%20y%20Seguridad%20P%C3%BAbica":MAILTO:webmaster@seguridad.gob.sv
END:VEVENT
BEGIN:VEVENT
DTSTART;TZID=America/Chicago:20220614T080000
DTEND;TZID=America/Chicago:20220614T170000
DTSTAMP:20260423T183112
CREATED:20220614T133331Z
LAST-MODIFIED:20220614T133331Z
UID:4326-1655193600-1655226000@www.seguridad.gob.sv
SUMMARY:Convocatoria de Prensa
DESCRIPTION:Esta mañana titulares del Gabinete de Seguridad brindarán detalles sobre captura de homicida.
URL:https://www.seguridad.gob.sv/actividades/convocatoria-de-prensa-15/
LOCATION:Subdireccón de Investigaciones\, Calle el Progreso\, San Salvador\, Calle el Progreso\, San Salvador\, San Salvador\, 503\, El Salvador
CATEGORIES:Conferencia de Prensa
ATTACH;FMTTYPE=image/jpeg:https://www.seguridad.gob.sv/wp-content/uploads/2022/06/FVNnKwBXEAAN4d4.jpg
ORGANIZER;CN="Ministerio%20de%20Justicia%20y%20Seguridad%20P%C3%BAbica":MAILTO:webmaster@seguridad.gob.sv
END:VEVENT
BEGIN:VEVENT
DTSTART;TZID=America/Chicago:20220614T140000
DTEND;TZID=America/Chicago:20220614T150000
DTSTAMP:20260423T183112
CREATED:20220614T183855Z
LAST-MODIFIED:20220614T183855Z
UID:4333-1655215200-1655218800@www.seguridad.gob.sv
SUMMARY:Convocatoria de Prensa
DESCRIPTION:Gabinete de Seguridad presentará información ampliada sobre los capturados responsables de un hecho de violencia en Zacatecoluca.
URL:https://www.seguridad.gob.sv/actividades/convocatoria-de-prensa-16/
LOCATION:Subdireccón de Investigaciones\, Calle el Progreso\, San Salvador\, Calle el Progreso\, San Salvador\, San Salvador\, 503\, El Salvador
CATEGORIES:Conferencia de Prensa
ATTACH;FMTTYPE=image/jpeg:https://www.seguridad.gob.sv/wp-content/uploads/2022/06/FVO4-v8XoAAkTr_.jpg
ORGANIZER;CN="Ministerio%20de%20Justicia%20y%20Seguridad%20P%C3%BAbica":MAILTO:webmaster@seguridad.gob.sv
END:VEVENT
BEGIN:VEVENT
DTSTART;TZID=America/Chicago:20220621T110000
DTEND;TZID=America/Chicago:20220621T120000
DTSTAMP:20260423T183112
CREATED:20220621T163859Z
LAST-MODIFIED:20220621T163859Z
UID:4374-1655809200-1655812800@www.seguridad.gob.sv
SUMMARY:Convocatoria de Prensa
DESCRIPTION:Este día\, el Gabinete de Seguridad presentará a la @AsambleaSV\, pieza de correspondencia que contiene la solicitud para nueva prórroga del Régimen de Excepción.
URL:https://www.seguridad.gob.sv/actividades/convocatoria-de-prensa-17/
LOCATION:Asamblea Legislativa\, 17 avenida norte\, San Salvador\, San Salvador\, 503\, El Salvador
CATEGORIES:Conferencia de Prensa
ATTACH;FMTTYPE=image/jpeg:https://www.seguridad.gob.sv/wp-content/uploads/2022/06/FVyhXFfXsAA33xi.jpg
ORGANIZER;CN="Ministerio%20de%20Justicia%20y%20Seguridad%20P%C3%BAbica":MAILTO:webmaster@seguridad.gob.sv
END:VEVENT
BEGIN:VEVENT
DTSTART;TZID=America/Chicago:20220630T163000
DTEND;TZID=America/Chicago:20220630T170000
DTSTAMP:20260423T183112
CREATED:20220630T211008Z
LAST-MODIFIED:20220630T211008Z
UID:4435-1656606600-1656608400@www.seguridad.gob.sv
SUMMARY:Convocatoria de Prensa
DESCRIPTION:Esta tarde\, el Gabinete de Seguridad y @FGR_SV  presentarán detalles sobre la captura de los terroristas responsables del triple asesinato de elementos de nuestra @PNCSV \n.
URL:https://www.seguridad.gob.sv/actividades/convocatoria-de-prensa-18/
LOCATION:Colonia La Realidad\, Colonia La Realidad\, Santa Ana\, Santa Ana\, El Salvador
CATEGORIES:Conferencia de Prensa
ATTACH;FMTTYPE=image/jpeg:https://www.seguridad.gob.sv/wp-content/uploads/2022/06/FWhvzFAXwAgOGuM.jpg
ORGANIZER;CN="Ministerio%20de%20Justicia%20y%20Seguridad%20P%C3%BAbica":MAILTO:webmaster@seguridad.gob.sv
END:VEVENT
BEGIN:VEVENT
DTSTART;TZID=America/Chicago:20220728T160000
DTEND;TZID=America/Chicago:20220728T170000
DTSTAMP:20260423T183112
CREATED:20220728T215647Z
LAST-MODIFIED:20220728T215647Z
UID:4927-1659024000-1659027600@www.seguridad.gob.sv
SUMMARY:Convocatoria de Prensa
DESCRIPTION:El Ministro de Justicia y Seguridad\, Gustavo @Vi11atoro\, y el @Director_PNC\, Comisionado Mauricio Arriaza Chicas\, juramentarán a la promoción 127 del Nivel Básico de la @ANSPSV \n.
URL:https://www.seguridad.gob.sv/actividades/convocatoria-de-prensa-19/
LOCATION:ANSP Comalapa\, San Luis Talpa\, Zacatecoluca\, San Luis Talpa\, El Salvador
CATEGORIES:Conferencia de Prensa
ORGANIZER;CN="Ministerio%20de%20Justicia%20y%20Seguridad%20P%C3%BAbica":MAILTO:webmaster@seguridad.gob.sv
END:VEVENT
BEGIN:VEVENT
DTSTART;TZID=America/Chicago:20220729T150000
DTEND;TZID=America/Chicago:20220729T160000
DTSTAMP:20260423T183112
CREATED:20220729T192550Z
LAST-MODIFIED:20220729T192550Z
UID:4941-1659106800-1659110400@www.seguridad.gob.sv
SUMMARY:Convocatoria de Prensa
DESCRIPTION:Autoridades del Gabinete de Seguridad presentarán detalles sobre resultados de operativos ejecutados en las últimas horas.
URL:https://www.seguridad.gob.sv/actividades/convocatoria-de-prensa-20/
LOCATION:Centro de Investigación Forense\, Nuevo Cuscatlán\, La Libertad\, La Libertad\, 503\, El Salvador
ATTACH;FMTTYPE=image/jpeg:https://www.seguridad.gob.sv/wp-content/uploads/2022/07/FY2t-6EWAAEEq0u.jpg
ORGANIZER;CN="Ministerio%20de%20Justicia%20y%20Seguridad%20P%C3%BAbica":MAILTO:webmaster@seguridad.gob.sv
END:VEVENT
BEGIN:VEVENT
DTSTART;TZID=America/Chicago:20220816T143000
DTEND;TZID=America/Chicago:20220816T153000
DTSTAMP:20260423T183112
CREATED:20220816T165713Z
LAST-MODIFIED:20220816T170831Z
UID:5084-1660660200-1660663800@www.seguridad.gob.sv
SUMMARY:Convocatoria de Prensa
DESCRIPTION:El Gabinete de Seguridad presentará a la @AsambleaSV pieza de correspondencia que contiene la solicitud para una nueva prórroga del Régimen de Excepción.
URL:https://www.seguridad.gob.sv/actividades/convocatoria-de-prensa-21/
LOCATION:Asamblea Legislativa\, 17 avenida norte\, San Salvador\, San Salvador\, 503\, El Salvador
CATEGORIES:Conferencia de Prensa
ATTACH;FMTTYPE=image/jpeg:https://www.seguridad.gob.sv/wp-content/uploads/2022/08/FaTEKPuWIAA68Jy.jpg
ORGANIZER;CN="Ministerio%20de%20Justicia%20y%20Seguridad%20P%C3%BAbica":MAILTO:webmaster@seguridad.gob.sv
END:VEVENT
BEGIN:VEVENT
DTSTART;TZID=America/Chicago:20220824T120000
DTEND;TZID=America/Chicago:20220824T130000
DTSTAMP:20260423T183112
CREATED:20220824T171856Z
LAST-MODIFIED:20220824T171856Z
UID:5172-1661342400-1661346000@www.seguridad.gob.sv
SUMMARY:Convocatoria de Prensa
DESCRIPTION:Autoridades del Gabinete de Seguridad presentarán detalles sobre resultados de operativos ejecutados en las últimas horas.
URL:https://www.seguridad.gob.sv/actividades/convocatoria-de-prensa-22/
LOCATION:Subdireccón de Investigaciones\, Calle el Progreso\, San Salvador\, Calle el Progreso\, San Salvador\, San Salvador\, 503\, El Salvador
CATEGORIES:Conferencia de Prensa
ATTACH;FMTTYPE=image/jpeg:https://www.seguridad.gob.sv/wp-content/uploads/2022/08/Fa8NspuXwAAvN8v.jpg
ORGANIZER;CN="Ministerio%20de%20Justicia%20y%20Seguridad%20P%C3%BAbica":MAILTO:webmaster@seguridad.gob.sv
END:VEVENT
BEGIN:VEVENT
DTSTART;TZID=America/Chicago:20220830T100000
DTEND;TZID=America/Chicago:20220830T120000
DTSTAMP:20260423T183112
CREATED:20220830T131519Z
LAST-MODIFIED:20220830T131519Z
UID:5214-1661853600-1661860800@www.seguridad.gob.sv
SUMMARY:Convocatoria de Prensa
DESCRIPTION:Este día\, nuestro Ministro Gustavo @Vi11atoro  y @Director_PNC  realizarán la entrega de nuevo equipamiento a nuestra @PNCSV
URL:https://www.seguridad.gob.sv/actividades/convocatoria-de-prensa-23/
LOCATION:ANSP Comalapa\, San Luis Talpa\, Zacatecoluca\, San Luis Talpa\, El Salvador
CATEGORIES:Conferencia de Prensa
ATTACH;FMTTYPE=image/jpeg:https://www.seguridad.gob.sv/wp-content/uploads/2022/08/FbaSVc-XEAAK20_.jpg
ORGANIZER;CN="Ministerio%20de%20Justicia%20y%20Seguridad%20P%C3%BAbica":MAILTO:webmaster@seguridad.gob.sv
END:VEVENT
BEGIN:VEVENT
DTSTART;TZID=America/Chicago:20220905T090000
DTEND;TZID=America/Chicago:20220905T120000
DTSTAMP:20260423T183112
CREATED:20220905T130459Z
LAST-MODIFIED:20220905T130459Z
UID:5250-1662368400-1662379200@www.seguridad.gob.sv
SUMMARY:Convocatoria de Prensa
DESCRIPTION:Nuestro Ministro Gustavo @Vi11atoro y @Director_PNC\, Comisionado Mauricio Arriaza Chicas\, brindarán detalles sobre las últimas capturas realizadas.
URL:https://www.seguridad.gob.sv/actividades/convocatoria-de-prensa-24/
LOCATION:Subdireccón de Investigaciones\, Calle el Progreso\, San Salvador\, Calle el Progreso\, San Salvador\, San Salvador\, 503\, El Salvador
CATEGORIES:Conferencia de Prensa
ATTACH;FMTTYPE=image/jpeg:https://www.seguridad.gob.sv/wp-content/uploads/2022/09/Fb5GjhFWQAMyXGp.jpg
ORGANIZER;CN="Ministerio%20de%20Justicia%20y%20Seguridad%20P%C3%BAbica":MAILTO:webmaster@seguridad.gob.sv
END:VEVENT
BEGIN:VEVENT
DTSTART;TZID=America/Chicago:20220908T100000
DTEND;TZID=America/Chicago:20220908T110000
DTSTAMP:20260423T183112
CREATED:20220908T140009Z
LAST-MODIFIED:20220908T140009Z
UID:5264-1662631200-1662634800@www.seguridad.gob.sv
SUMMARY:Convocatoria de Prensa
DESCRIPTION:Nuestro Ministro Gustavo @Vi11atoro realizará la entrega oficial de una flota de vehículos a nuestra @PNCSV para ejecución de operaciones.
URL:https://www.seguridad.gob.sv/actividades/convocatoria-de-prensa-25/
LOCATION:ANSP Comalapa\, San Luis Talpa\, Zacatecoluca\, San Luis Talpa\, El Salvador
CATEGORIES:Conferencia de Prensa
ATTACH;FMTTYPE=image/jpeg:https://www.seguridad.gob.sv/wp-content/uploads/2022/09/FcIopSYXwAAcPnt.jpeg
ORGANIZER;CN="Ministerio%20de%20Justicia%20y%20Seguridad%20P%C3%BAbica":MAILTO:webmaster@seguridad.gob.sv
END:VEVENT
BEGIN:VEVENT
DTSTART;TZID=America/Chicago:20220914T150000
DTEND;TZID=America/Chicago:20220914T153000
DTSTAMP:20260423T183112
CREATED:20220914T200157Z
LAST-MODIFIED:20220914T200157Z
UID:5308-1663167600-1663169400@www.seguridad.gob.sv
SUMMARY:Convocatoria de Prensa
DESCRIPTION:Nuestro Ministro Gustavo @Vi11atoro y Ministro @merino_monroy presentarán ante la @AsambleaSV la solicitud de ampliación del Régimen de Excepción y propuesta de reformas de ley para fortalecer el combate a crimen organizado y #GuerraContraPandillas.
URL:https://www.seguridad.gob.sv/actividades/convocatoria-de-prensa-26/
LOCATION:Asamblea Legislativa\, 17 avenida norte\, San Salvador\, San Salvador\, 503\, El Salvador
CATEGORIES:Conferencia de Prensa
ATTACH;FMTTYPE=image/jpeg:https://www.seguridad.gob.sv/wp-content/uploads/2022/09/FcpBHniXEAIzuJA.jpeg
ORGANIZER;CN="Ministerio%20de%20Justicia%20y%20Seguridad%20P%C3%BAbica":MAILTO:webmaster@seguridad.gob.sv
END:VEVENT
BEGIN:VEVENT
DTSTART;TZID=America/Chicago:20221003T123000
DTEND;TZID=America/Chicago:20221003T133000
DTSTAMP:20260423T183112
CREATED:20221003T165937Z
LAST-MODIFIED:20221003T165937Z
UID:5422-1664800200-1664803800@www.seguridad.gob.sv
SUMMARY:Convocatoria de Prensa
DESCRIPTION:El Gabinete de Seguridad presentará información ampliada de los resultados obtenidos hasta el momento durante el operativo #CercoComasagua.
URL:https://www.seguridad.gob.sv/actividades/convocatoria-de-prensa-27/
LOCATION:Comasagua\, Puesto Policial\, Comasagua\, La Libertad\, La Libertad\, El Salvador
CATEGORIES:Conferencia de Prensa
ATTACH;FMTTYPE=image/jpeg:https://www.seguridad.gob.sv/wp-content/uploads/2022/10/convocatoriaPrensa.jpg
ORGANIZER;CN="Ministerio%20de%20Justicia%20y%20Seguridad%20P%C3%BAbica":MAILTO:webmaster@seguridad.gob.sv
END:VEVENT
BEGIN:VEVENT
DTSTART;TZID=America/Chicago:20221014T123000
DTEND;TZID=America/Chicago:20221014T130000
DTSTAMP:20260423T183112
CREATED:20221014T173805Z
LAST-MODIFIED:20221014T173805Z
UID:5516-1665750600-1665752400@www.seguridad.gob.sv
SUMMARY:Convocatoria de Prensa
DESCRIPTION:El Gabinete de Seguridad presentará a la @AsambleaSV pieza de correspondencia que contiene la solicitud para una nueva prórroga del Régimen de Excepción.
URL:https://www.seguridad.gob.sv/actividades/convocatoria-de-prensa-28/
LOCATION:Asamblea Legislativa\, 17 avenida norte\, San Salvador\, San Salvador\, 503\, El Salvador
CATEGORIES:Conferencia de Prensa
ATTACH;FMTTYPE=image/jpeg:https://www.seguridad.gob.sv/wp-content/uploads/2022/10/FfCw4liX0AA99qd.jpeg
ORGANIZER;CN="Ministerio%20de%20Justicia%20y%20Seguridad%20P%C3%BAbica":MAILTO:webmaster@seguridad.gob.sv
END:VEVENT
BEGIN:VEVENT
DTSTART;TZID=America/Chicago:20221115T123000
DTEND;TZID=America/Chicago:20221115T133000
DTSTAMP:20260423T183112
CREATED:20221115T173425Z
LAST-MODIFIED:20221115T173425Z
UID:5705-1668515400-1668519000@www.seguridad.gob.sv
SUMMARY:Convocatoria de Prensa
DESCRIPTION:Ministro de Seguridad\, Gustavo @Vi11atoro\, y @Director_PNC\, Mauricio Arriaza Chicas\, presentarán ante la @AsambleaSV pieza de correspondencia que contiene la solicitud para una nueva prórroga del Régimen de Excepción.
URL:https://www.seguridad.gob.sv/actividades/convocatoria-de-prensa-29/
LOCATION:Asamblea Legislativa\, 17 avenida norte\, San Salvador\, San Salvador\, 503\, El Salvador
CATEGORIES:Conferencia de Prensa
ATTACH;FMTTYPE=image/jpeg:https://www.seguridad.gob.sv/wp-content/uploads/2022/11/FhnyudjXkAEV4Ui.jpg
ORGANIZER;CN="Ministerio%20de%20Justicia%20y%20Seguridad%20P%C3%BAbica":MAILTO:webmaster@seguridad.gob.sv
END:VEVENT
BEGIN:VEVENT
DTSTART;TZID=America/Chicago:20221115T170000
DTEND;TZID=America/Chicago:20221115T180000
DTSTAMP:20260423T183112
CREATED:20221115T213730Z
LAST-MODIFIED:20221115T213730Z
UID:5712-1668531600-1668535200@www.seguridad.gob.sv
SUMMARY:Convocatoria de Prensa
DESCRIPTION:Ministro de Seguridad\, Gustavo @Vi11atoro\, y @Director_PNC\, Mauricio Arriaza Chicas\, realizarán la entrega de nuevo y moderno equipamiento informático a nuestra @PNCSV.
URL:https://www.seguridad.gob.sv/actividades/convocatoria-de-prensa-30/
LOCATION:Centro de Investigación Forense\, Nuevo Cuscatlán\, La Libertad\, La Libertad\, 503\, El Salvador
CATEGORIES:Conferencia de Prensa
ATTACH;FMTTYPE=image/jpeg:https://www.seguridad.gob.sv/wp-content/uploads/2022/11/Fhojg0kXEAAC_2a.jpg
ORGANIZER;CN="Ministerio%20de%20Justicia%20y%20Seguridad%20P%C3%BAbica":MAILTO:webmaster@seguridad.gob.sv
END:VEVENT
BEGIN:VEVENT
DTSTART;TZID=America/Chicago:20221121T180000
DTEND;TZID=America/Chicago:20221121T190000
DTSTAMP:20260423T183112
CREATED:20221121T202224Z
LAST-MODIFIED:20221121T202224Z
UID:5734-1669053600-1669057200@www.seguridad.gob.sv
SUMMARY:Convocatoria de Prensa
DESCRIPTION:Gabinete de Seguridad y Fiscalía General de la República presentarán resultados sobre la incautación de droga realizada recientemente al sur oeste del Puerto de Acajutla.
URL:https://www.seguridad.gob.sv/actividades/convocatoria-de-prensa-31/
LOCATION:Destacamento Naval\, La Concordia\, Costa del Sol\, La Paz\, La Paz\, 503\, El Salvador
CATEGORIES:Conferencia de Prensa
ATTACH;FMTTYPE=image/jpeg:https://www.seguridad.gob.sv/wp-content/uploads/2022/11/FiGy9uFWQBkYq9W.jpg
ORGANIZER;CN="Ministerio%20de%20Justicia%20y%20Seguridad%20P%C3%BAbica":MAILTO:webmaster@seguridad.gob.sv
END:VEVENT
BEGIN:VEVENT
DTSTART;TZID=America/Chicago:20221214T120000
DTEND;TZID=America/Chicago:20221214T130000
DTSTAMP:20260423T183112
CREATED:20221214T165706Z
LAST-MODIFIED:20221214T165706Z
UID:5840-1671019200-1671022800@www.seguridad.gob.sv
SUMMARY:Convocatoria de Prensa
DESCRIPTION:Titulares del Gabinete de @SeguridadSV presentarán a la @AsambleaSV solicitud de prórroga de Régimen de Excepción.
URL:https://www.seguridad.gob.sv/actividades/convocatoria-de-prensa-32/
LOCATION:Asamblea Legislativa\, 17 avenida norte\, San Salvador\, San Salvador\, 503\, El Salvador
CATEGORIES:Conferencia de Prensa
ATTACH;FMTTYPE=image/jpeg:https://www.seguridad.gob.sv/wp-content/uploads/2022/12/Fj87JA_XgAIUW4M.jpg
ORGANIZER;CN="Ministerio%20de%20Justicia%20y%20Seguridad%20P%C3%BAbica":MAILTO:webmaster@seguridad.gob.sv
END:VEVENT
BEGIN:VEVENT
DTSTART;TZID=America/Chicago:20230118T120000
DTEND;TZID=America/Chicago:20230118T130000
DTSTAMP:20260423T183112
CREATED:20230118T174711Z
LAST-MODIFIED:20230118T174711Z
UID:6102-1674043200-1674046800@www.seguridad.gob.sv
SUMMARY:Convocatoria de Prensa
DESCRIPTION:Titulares del Gabinete de Seguridad brindarán detalles sobre capturas realizadas en las últimas horas.
URL:https://www.seguridad.gob.sv/actividades/convocatoria-de-prensa-33/
LOCATION:Castillo de la PNC\, San Salvador\, San salvador\, San Salvador\, 503\, El Salvador
CATEGORIES:Conferencia de Prensa
ATTACH;FMTTYPE=image/jpeg:https://www.seguridad.gob.sv/wp-content/uploads/2023/01/FmxSWLZXwAEJJdz.jpg
ORGANIZER;CN="Ministerio%20de%20Justicia%20y%20Seguridad%20P%C3%BAbica":MAILTO:webmaster@seguridad.gob.sv
END:VEVENT
BEGIN:VEVENT
DTSTART;TZID=America/Chicago:20230215T080000
DTEND;TZID=America/Chicago:20230215T090000
DTSTAMP:20260423T183112
CREATED:20230215T135848Z
LAST-MODIFIED:20230215T135848Z
UID:6278-1676448000-1676451600@www.seguridad.gob.sv
SUMMARY:Convocatoria de Prensa
DESCRIPTION:Los titulares del Gabinete de Seguridad informarán sobre una importante captura en las últimas horas.
URL:https://www.seguridad.gob.sv/actividades/convocatoria-de-prensa-34/
LOCATION:Subdireccón de Investigaciones\, Calle el Progreso\, San Salvador\, Calle el Progreso\, San Salvador\, San Salvador\, 503\, El Salvador
CATEGORIES:Conferencia de Prensa
ATTACH;FMTTYPE=image/jpeg:https://www.seguridad.gob.sv/wp-content/uploads/2023/02/Fo-2a5LXwAEANfl.jpg
ORGANIZER;CN="Ministerio%20de%20Justicia%20y%20Seguridad%20P%C3%BAbica":MAILTO:webmaster@seguridad.gob.sv
END:VEVENT
BEGIN:VEVENT
DTSTART;TZID=America/Chicago:20230315T123000
DTEND;TZID=America/Chicago:20230315T130000
DTSTAMP:20260423T183112
CREATED:20230315T175517Z
LAST-MODIFIED:20230315T175517Z
UID:6424-1678883400-1678885200@www.seguridad.gob.sv
SUMMARY:Convocatoria de Prensa
DESCRIPTION:Titulares del Gabinete de Seguridad presentarán a la @AsambleaSV solicitud de prórroga del #RégimenDeExcepción
URL:https://www.seguridad.gob.sv/actividades/convocatoria-de-prensa-35/
LOCATION:Asamblea Legislativa\, 17 avenida norte\, San Salvador\, San Salvador\, 503\, El Salvador
CATEGORIES:Conferencia de Prensa
ATTACH;FMTTYPE=image/jpeg:https://www.seguridad.gob.sv/wp-content/uploads/2023/03/FrRxWvyXoAEZtun.jpg
ORGANIZER;CN="Ministerio%20de%20Justicia%20y%20Seguridad%20P%C3%BAbica":MAILTO:webmaster@seguridad.gob.sv
END:VEVENT
BEGIN:VEVENT
DTSTART;TZID=America/Chicago:20230331T100000
DTEND;TZID=America/Chicago:20230331T110000
DTSTAMP:20260423T183112
CREATED:20230331T143107Z
LAST-MODIFIED:20230331T143924Z
UID:6516-1680256800-1680260400@www.seguridad.gob.sv
SUMMARY:Convocatoria de Prensa
DESCRIPTION:Con el fin de continuar modernizando a nuestra corporación policial\, nuestro Ministerio de Seguridad entregará una nueva flota de motocicletas a la @PNCSV \n.
URL:https://www.seguridad.gob.sv/actividades/convocatoria-de-prensa-36/
LOCATION:Iglesia El Calvario\, Centro de San Salvdor\, San Salvador\, San Salvador\, 503\, El Salvador
CATEGORIES:Conferencia de Prensa
ATTACH;FMTTYPE=image/jpeg:https://www.seguridad.gob.sv/wp-content/uploads/2023/03/Fsg18Y-WcAImNSK.jpg
ORGANIZER;CN="Ministerio%20de%20Justicia%20y%20Seguridad%20P%C3%BAbica":MAILTO:webmaster@seguridad.gob.sv
END:VEVENT
BEGIN:VEVENT
DTSTART;TZID=America/Chicago:20230412T123000
DTEND;TZID=America/Chicago:20230412T133000
DTSTAMP:20260423T183112
CREATED:20230412T174016Z
LAST-MODIFIED:20230412T174016Z
UID:6604-1681302600-1681306200@www.seguridad.gob.sv
SUMMARY:Convocatoria de Prensa
DESCRIPTION:Titulares del Gabinete de Seguridad presentarán a la @AsambleaSV solicitud de prórroga del #RégimenDeExcepción.
URL:https://www.seguridad.gob.sv/actividades/convocatoria-de-prensa-37/
LOCATION:Asamblea Legislativa\, 17 avenida norte\, San Salvador\, San Salvador\, 503\, El Salvador
CATEGORIES:Conferencia de Prensa
ATTACH;FMTTYPE=image/jpeg:https://www.seguridad.gob.sv/wp-content/uploads/2023/04/Fth3CGUXsAAUfdn.jpg
ORGANIZER;CN="Ministerio%20de%20Justicia%20y%20Seguridad%20P%C3%BAbica":MAILTO:webmaster@seguridad.gob.sv
END:VEVENT
BEGIN:VEVENT
DTSTART;TZID=America/Chicago:20230515T120000
DTEND;TZID=America/Chicago:20230515T130000
DTSTAMP:20260423T183112
CREATED:20230515T153519Z
LAST-MODIFIED:20230515T153519Z
UID:6724-1684152000-1684155600@www.seguridad.gob.sv
SUMMARY:Convocatoria de Prensa
DESCRIPTION:Titulares del Gabinete de Seguridad brindarán conferencia de prensa para compartir detalles sobre captura.
URL:https://www.seguridad.gob.sv/actividades/convocatoria-de-prensa-38/
LOCATION:Subdireccón de Investigaciones\, Calle el Progreso\, San Salvador\, Calle el Progreso\, San Salvador\, San Salvador\, 503\, El Salvador
CATEGORIES:Conferencia de Prensa
ATTACH;FMTTYPE=image/jpeg:https://www.seguridad.gob.sv/wp-content/uploads/2023/05/FwLfECkXwAIT_Ex.jpg
ORGANIZER;CN="Ministerio%20de%20Justicia%20y%20Seguridad%20P%C3%BAbica":MAILTO:webmaster@seguridad.gob.sv
END:VEVENT
BEGIN:VEVENT
DTSTART;TZID=America/Chicago:20230516T123000
DTEND;TZID=America/Chicago:20230516T130000
DTSTAMP:20260423T183112
CREATED:20230516T164535Z
LAST-MODIFIED:20230516T164535Z
UID:6735-1684240200-1684242000@www.seguridad.gob.sv
SUMMARY:Convocatoria de Prensa
DESCRIPTION:Titulares del Gabinete de Seguridad presentarán a la @AsambleaSV décimo cuarta solicitud de prórroga del #RégimenDeExcepción.
URL:https://www.seguridad.gob.sv/actividades/convocatoria-de-prensa-39/
LOCATION:Asamblea Legislativa\, 17 avenida norte\, San Salvador\, San Salvador\, 503\, El Salvador
CATEGORIES:Conferencia de Prensa
ATTACH;FMTTYPE=image/jpeg:https://www.seguridad.gob.sv/wp-content/uploads/2023/05/FwQyCfxXoAEL7QG.jpg
ORGANIZER;CN="Ministerio%20de%20Justicia%20y%20Seguridad%20P%C3%BAbica":MAILTO:webmaster@seguridad.gob.sv
END:VEVENT
END:VCALENDAR