BEGIN:VCALENDAR
VERSION:2.0
PRODID:-//Ministerio de Seguridad Pública y Justicia - ECPv5.13.0//NONSGML v1.0//EN
CALSCALE:GREGORIAN
METHOD:PUBLISH
X-WR-CALNAME:Ministerio de Seguridad Pública y Justicia
X-ORIGINAL-URL:https://www.seguridad.gob.sv
X-WR-CALDESC:Events for Ministerio de Seguridad Pública y Justicia
REFRESH-INTERVAL;VALUE=DURATION:PT1H
X-Robots-Tag:noindex
X-PUBLISHED-TTL:PT1H
BEGIN:VTIMEZONE
TZID:America/Chicago
BEGIN:DAYLIGHT
TZOFFSETFROM:-0600
TZOFFSETTO:-0500
TZNAME:CDT
DTSTART:20230312T080000
END:DAYLIGHT
BEGIN:STANDARD
TZOFFSETFROM:-0500
TZOFFSETTO:-0600
TZNAME:CST
DTSTART:20231105T070000
END:STANDARD
BEGIN:DAYLIGHT
TZOFFSETFROM:-0600
TZOFFSETTO:-0500
TZNAME:CDT
DTSTART:20240310T080000
END:DAYLIGHT
BEGIN:STANDARD
TZOFFSETFROM:-0500
TZOFFSETTO:-0600
TZNAME:CST
DTSTART:20241103T070000
END:STANDARD
BEGIN:DAYLIGHT
TZOFFSETFROM:-0600
TZOFFSETTO:-0500
TZNAME:CDT
DTSTART:20250309T080000
END:DAYLIGHT
BEGIN:STANDARD
TZOFFSETFROM:-0500
TZOFFSETTO:-0600
TZNAME:CST
DTSTART:20251102T070000
END:STANDARD
BEGIN:DAYLIGHT
TZOFFSETFROM:-0600
TZOFFSETTO:-0500
TZNAME:CDT
DTSTART:20260308T080000
END:DAYLIGHT
BEGIN:STANDARD
TZOFFSETFROM:-0500
TZOFFSETTO:-0600
TZNAME:CST
DTSTART:20261101T070000
END:STANDARD
END:VTIMEZONE
BEGIN:VEVENT
DTSTART;TZID=America/Chicago:20230905T170000
DTEND;TZID=America/Chicago:20230905T180000
DTSTAMP:20260422T174101
CREATED:20230905T181114Z
LAST-MODIFIED:20230905T181827Z
UID:7315-1693933200-1693936800@www.seguridad.gob.sv
SUMMARY:Convocatoria de prensa
DESCRIPTION:Este día\, nuestro Ministro Gustavo @Vi11atoro realizará la entrega oficial de nueva sede policial en La Costa del Sol\, La Paz.
URL:https://www.seguridad.gob.sv/actividades/convocatoria-de-prensa-43/
LOCATION:Bulevard Costa del Sol\, El Zapote\, San Luis La Herradura\, La Paz\, Bulevard Costa del Sol\, San Luis La Herradura\, El Salvador
CATEGORIES:Conferencia de Prensa
ATTACH;FMTTYPE=image/jpeg:https://www.seguridad.gob.sv/wp-content/uploads/2023/09/F5R8-kgXoAAKCCA.jpeg
ORGANIZER;CN="Ministerio%20de%20Justicia%20y%20Seguridad%20P%C3%BAbica":MAILTO:webmaster@seguridad.gob.sv
END:VEVENT
BEGIN:VEVENT
DTSTART;TZID=America/Chicago:20240131T170000
DTEND;TZID=America/Chicago:20240131T180000
DTSTAMP:20260422T174101
CREATED:20240131T191420Z
LAST-MODIFIED:20240131T191420Z
UID:8057-1706720400-1706724000@www.seguridad.gob.sv
SUMMARY:Convocatoria de prensa
DESCRIPTION:Con el fin de fortalecer el trabajo en el territorio nacional\, este día\, será entregado nuevo equipamiento a nuestra @PNCSV
URL:https://www.seguridad.gob.sv/actividades/convocatoria-de-prensa-44/
LOCATION:ANSP Comalapa\, San Luis Talpa\, Zacatecoluca\, San Luis Talpa\, El Salvador
CATEGORIES:Conferencia de Prensa
ATTACH;FMTTYPE=image/jpeg:https://www.seguridad.gob.sv/wp-content/uploads/2024/01/GFMKvp8XQAAbpHZ.jpeg
ORGANIZER;CN="Ministerio%20de%20Justicia%20y%20Seguridad%20P%C3%BAbica":MAILTO:webmaster@seguridad.gob.sv
END:VEVENT
BEGIN:VEVENT
DTSTART;TZID=America/Chicago:20240222T123000
DTEND;TZID=America/Chicago:20240222T133000
DTSTAMP:20260422T174101
CREATED:20240222T172313Z
LAST-MODIFIED:20240222T172313Z
UID:8170-1708605000-1708608600@www.seguridad.gob.sv
SUMMARY:Convocatoria de Prensa
DESCRIPTION:Hoy\, titulares del Gabinete de Seguridad ofrecerán información detallada sobre las detenciones de menores de edad ocurridas en los últimos días.
URL:https://www.seguridad.gob.sv/actividades/convocatoria-de-prensa-45/
LOCATION:Subdireccón de Investigaciones\, Calle el Progreso\, San Salvador\, Calle el Progreso\, San Salvador\, San Salvador\, 503\, El Salvador
CATEGORIES:Conferencia de Prensa
ATTACH;FMTTYPE=image/jpeg:https://www.seguridad.gob.sv/wp-content/uploads/2024/02/GG9REKYWYAAOdI0.jpeg
ORGANIZER;CN="Ministerio%20de%20Justicia%20y%20Seguridad%20P%C3%BAbica":MAILTO:webmaster@seguridad.gob.sv
END:VEVENT
BEGIN:VEVENT
DTSTART;TZID=America/Chicago:20240813T100000
DTEND;TZID=America/Chicago:20240813T113000
DTSTAMP:20260422T174101
CREATED:20240813T153420Z
LAST-MODIFIED:20240813T153420Z
UID:8862-1723543200-1723548600@www.seguridad.gob.sv
SUMMARY:Convocatoria de prensa
DESCRIPTION:Este martes 13 de agosto\, nuestro Ministro Gustavo @Vi11atoro realizará la entrega oficial de una nueva sede policial en El Mozote\, Morazán.
URL:https://www.seguridad.gob.sv/actividades/convocatoria-de-prensa-46/
LOCATION:El Mozote\, El mozote\, Morazan\, Morazan\, 503\, El Salvador
CATEGORIES:Conferencia de Prensa
ATTACH;FMTTYPE=image/jpeg:https://www.seguridad.gob.sv/wp-content/uploads/2024/08/GU0R1AwWAAEmQlQ.jpeg
ORGANIZER;CN="Ministerio%20de%20Justicia%20y%20Seguridad%20P%C3%BAbica":MAILTO:webmaster@seguridad.gob.sv
END:VEVENT
BEGIN:VEVENT
DTSTART;TZID=America/Chicago:20250218T120000
DTEND;TZID=America/Chicago:20250218T130000
DTSTAMP:20260422T174101
CREATED:20250218T142739Z
LAST-MODIFIED:20250218T142739Z
UID:9545-1739880000-1739883600@www.seguridad.gob.sv
SUMMARY:Convocatoria de Prensa
DESCRIPTION:Continuamos transformando nuestras comunidades\, el Ministro Gustavo @Vi11atoro  entregará\, este día\, la remodelación del Centro Escolar La Campanera.
URL:https://www.seguridad.gob.sv/actividades/convocatoria-de-prensa-47/
LOCATION:La Campanera\, Soyapango\, San Salvador\, La Campanera\, Soyapango\, Soyapango\, El Salvador
CATEGORIES:Conferencia de Prensa
ATTACH;FMTTYPE=image/jpeg:https://www.seguridad.gob.sv/wp-content/uploads/2025/02/GkE0Rp9XQAEY3tM.jpeg
ORGANIZER;CN="Ministerio%20de%20Justicia%20y%20Seguridad%20P%C3%BAbica":MAILTO:webmaster@seguridad.gob.sv
END:VEVENT
BEGIN:VEVENT
DTSTART;TZID=America/Chicago:20250918T093000
DTEND;TZID=America/Chicago:20250918T110000
DTSTAMP:20260422T174101
CREATED:20250918T154328Z
LAST-MODIFIED:20250918T154328Z
UID:10030-1758187800-1758193200@www.seguridad.gob.sv
SUMMARY:Convocatoria de Prensa
DESCRIPTION:Nuestro Ministro @Vi11atoro\, acompañado por el Ministro @merino_monroy  y la Ministra @misol140\, realizará la entrega oficial de la nueva sede policial completamente remodelada en La Campanera\, Soyapango. Un espacio moderno y digno que fortalecerá el trabajo de nuestra  \n@PNCSV  al servicio de la población salvadoreña.
URL:https://www.seguridad.gob.sv/actividades/convocatoria-de-prensa-48/
LOCATION:La Campanera\, Soyapango\, San Salvador\, La Campanera\, Soyapango\, Soyapango\, El Salvador
CATEGORIES:Conferencia de Prensa
ATTACH;FMTTYPE=image/jpeg:https://www.seguridad.gob.sv/wp-content/uploads/2025/09/G1GCE4xXcAA1_ZN.jpeg
ORGANIZER;CN="Ministerio%20de%20Justicia%20y%20Seguridad%20P%C3%BAbica":MAILTO:webmaster@seguridad.gob.sv
END:VEVENT
BEGIN:VEVENT
DTSTART;TZID=America/Chicago:20251103T120000
DTEND;TZID=America/Chicago:20251103T130000
DTSTAMP:20260422T174101
CREATED:20251103T143916Z
LAST-MODIFIED:20251103T143916Z
UID:10129-1762171200-1762174800@www.seguridad.gob.sv
SUMMARY:Convocatoria de prensa
DESCRIPTION:Nuestro Ministro de Seguridad\, Gustavo Villatoro\, junto a los titulares de la Fiscalía General de La República de El Salvador y Migración y Extranjería El Salvador\, brindará conferencia de prensa para compartir detalles sobre la ejecución de uno de los más recientes operativos.
URL:https://www.seguridad.gob.sv/actividades/convocatoria-de-prensa-49/
LOCATION:Subdireccón de Investigaciones\, Calle el Progreso\, San Salvador\, Calle el Progreso\, San Salvador\, San Salvador\, 503\, El Salvador
CATEGORIES:Conferencia de Prensa
ATTACH;FMTTYPE=image/jpeg:https://www.seguridad.gob.sv/wp-content/uploads/2025/11/574452761_1227688186050248_2855376252013445983_n.jpg
ORGANIZER;CN="Ministerio%20de%20Justicia%20y%20Seguridad%20P%C3%BAbica":MAILTO:webmaster@seguridad.gob.sv
END:VEVENT
BEGIN:VEVENT
DTSTART;TZID=America/Chicago:20260203T120000
DTEND;TZID=America/Chicago:20260203T130000
DTSTAMP:20260422T174101
CREATED:20260203T175047Z
LAST-MODIFIED:20260203T175047Z
UID:10250-1770120000-1770123600@www.seguridad.gob.sv
SUMMARY:Convocatoria de prensa
DESCRIPTION:Este día\, los titulares del Gabinete de Seguridad Ampliado brindarán una conferencia de prensa en la que informarán sobre los resultados de las acciones más recientes en materia de seguridad.
URL:https://www.seguridad.gob.sv/actividades/convocatoria-de-prensa-50/
LOCATION:Subdireccón de Investigaciones\, Calle el Progreso\, San Salvador\, Calle el Progreso\, San Salvador\, San Salvador\, 503\, El Salvador
CATEGORIES:Conferencia de Prensa
ATTACH;FMTTYPE=image/jpeg:https://www.seguridad.gob.sv/wp-content/uploads/2026/02/HAPtgxTWQAIaUP3.jpg
ORGANIZER;CN="Ministerio%20de%20Justicia%20y%20Seguridad%20P%C3%BAbica":MAILTO:webmaster@seguridad.gob.sv
END:VEVENT
BEGIN:VEVENT
DTSTART;TZID=America/Chicago:20260210T120000
DTEND;TZID=America/Chicago:20260210T130000
DTSTAMP:20260422T174101
CREATED:20260210T135545Z
LAST-MODIFIED:20260210T135545Z
UID:10272-1770724800-1770728400@www.seguridad.gob.sv
SUMMARY:Convocatoria de Prensa
DESCRIPTION:Titulares del Gabinete de Seguridad Ampliado informarán\, en conferencia de prensa\, sobre los resultados de las acciones ejecutadas recientemente en materia de seguridad.
URL:https://www.seguridad.gob.sv/actividades/convocatoria-de-prensa-51/
LOCATION:Subdireccón de Investigaciones\, Calle el Progreso\, San Salvador\, Calle el Progreso\, San Salvador\, San Salvador\, 503\, El Salvador
CATEGORIES:Conferencia de Prensa
ATTACH;FMTTYPE=image/jpeg:https://www.seguridad.gob.sv/wp-content/uploads/2026/02/HAzFiiiWkAAr2p3.jpg
ORGANIZER;CN="Ministerio%20de%20Justicia%20y%20Seguridad%20P%C3%BAbica":MAILTO:webmaster@seguridad.gob.sv
END:VEVENT
END:VCALENDAR