BEGIN:VCALENDAR
VERSION:2.0
PRODID:-//Ministerio de Seguridad Pública y Justicia - ECPv5.13.0//NONSGML v1.0//EN
CALSCALE:GREGORIAN
METHOD:PUBLISH
X-WR-CALNAME:Ministerio de Seguridad Pública y Justicia
X-ORIGINAL-URL:https://www.seguridad.gob.sv
X-WR-CALDESC:Events for Ministerio de Seguridad Pública y Justicia
REFRESH-INTERVAL;VALUE=DURATION:PT1H
X-Robots-Tag:noindex
X-PUBLISHED-TTL:PT1H
BEGIN:VTIMEZONE
TZID:America/Chicago
BEGIN:DAYLIGHT
TZOFFSETFROM:-0600
TZOFFSETTO:-0500
TZNAME:CDT
DTSTART:20210314T080000
END:DAYLIGHT
BEGIN:STANDARD
TZOFFSETFROM:-0500
TZOFFSETTO:-0600
TZNAME:CST
DTSTART:20211107T070000
END:STANDARD
END:VTIMEZONE
BEGIN:VEVENT
DTSTART;TZID=America/Chicago:20210616T080000
DTEND;TZID=America/Chicago:20210616T120000
DTSTAMP:20260424T122751
CREATED:20210621T165858Z
LAST-MODIFIED:20210621T170948Z
UID:2270-1623830400-1623844800@www.seguridad.gob.sv
SUMMARY:Incautación de Droga\, Costa del Sol\, El Pimental y El Cuco
DESCRIPTION:Más de 715 kg de droga hemos contabilizado hasta el momento en los operativos en Costa del Sol\, El Pimental y El Cuco. Esto como resultado de la lucha contra el narcotráfico\, gracias al #PlanControlTerritorial.
URL:https://www.seguridad.gob.sv/actividades/conferencia-de-prensa-sobre-incautacion-de-droga/
LOCATION:San Salvador\, El Salvador
CATEGORIES:Conferencia de Prensa
ATTACH;FMTTYPE=image/jpeg:https://www.seguridad.gob.sv/wp-content/uploads/2021/06/E4Amgk_VkAAM3_G.jpeg
ORGANIZER;CN="Ministerio%20de%20Justicia%20y%20Seguridad%20P%C3%BAbica":MAILTO:webmaster@seguridad.gob.sv
END:VEVENT
BEGIN:VEVENT
DTSTART;TZID=America/Chicago:20210621T080000
DTEND;TZID=America/Chicago:20210621T170000
DTSTAMP:20260424T122751
CREATED:20210621T164429Z
LAST-MODIFIED:20210621T170807Z
UID:2265-1624262400-1624294800@www.seguridad.gob.sv
SUMMARY:Incautación de Droga\, Tecoluca\, San Vicente
DESCRIPTION:“El fortalecimiento del #PlanControlTerritorial va dejando resultados a su paso\, junto al apoyo interinstitucional\, hoy presentamos esta nuevo decomiso de droga”
URL:https://www.seguridad.gob.sv/actividades/conferencia-de-prensa/
LOCATION:San Salvador
CATEGORIES:Conferencia de Prensa
ATTACH;FMTTYPE=image/jpeg:https://www.seguridad.gob.sv/wp-content/uploads/2021/06/E4a1H3lX0AMVizb.jpg
ORGANIZER;CN="Ministerio%20de%20Justicia%20y%20Seguridad%20P%C3%BAbica":MAILTO:webmaster@seguridad.gob.sv
END:VEVENT
BEGIN:VEVENT
DTSTART;TZID=America/Chicago:20210625T080000
DTEND;TZID=America/Chicago:20210625T170000
DTSTAMP:20260424T122751
CREATED:20210625T173921Z
LAST-MODIFIED:20210625T214626Z
UID:2288-1624608000-1624640400@www.seguridad.gob.sv
SUMMARY:Presentación de pandillero capturado en Guatemala
DESCRIPTION:#PlanControlTerriorial | El ministro de Justicia y @SeguridadSV\, @Vi11atoro; junto al director de la @PNCSV\, Mauricio Arriaza Chicas (@Director_PNC)\, presentan esta tarde a Ronald Guerrero Catota\, pandillero capturado el 23 de junio en Guatemala.
URL:https://www.seguridad.gob.sv/actividades/presentacion-de-pandillero-capturado-en-guatemala/
LOCATION:San Salvador
CATEGORIES:Conferencia de Prensa
ATTACH;FMTTYPE=image/jpeg:https://www.seguridad.gob.sv/wp-content/uploads/2021/06/E4r2TzXXEAAQdmD.jpg
END:VEVENT
END:VCALENDAR