BEGIN:VCALENDAR
VERSION:2.0
PRODID:-//Ministerio de Seguridad Pública y Justicia - ECPv5.13.0//NONSGML v1.0//EN
CALSCALE:GREGORIAN
METHOD:PUBLISH
X-WR-CALNAME:Ministerio de Seguridad Pública y Justicia
X-ORIGINAL-URL:https://www.seguridad.gob.sv
X-WR-CALDESC:Events for Ministerio de Seguridad Pública y Justicia
REFRESH-INTERVAL;VALUE=DURATION:PT1H
X-Robots-Tag:noindex
X-PUBLISHED-TTL:PT1H
BEGIN:VTIMEZONE
TZID:America/Chicago
BEGIN:DAYLIGHT
TZOFFSETFROM:-0600
TZOFFSETTO:-0500
TZNAME:CDT
DTSTART:20210314T080000
END:DAYLIGHT
BEGIN:STANDARD
TZOFFSETFROM:-0500
TZOFFSETTO:-0600
TZNAME:CST
DTSTART:20211107T070000
END:STANDARD
END:VTIMEZONE
BEGIN:VEVENT
DTSTART;TZID=America/Chicago:20211221T060000
DTEND;TZID=America/Chicago:20211221T070000
DTSTAMP:20260424T040701
CREATED:20211221T130840Z
LAST-MODIFIED:20211221T130840Z
UID:2998-1640066400-1640070000@www.seguridad.gob.sv
SUMMARY:Convocatoria de Prensa
DESCRIPTION:Titulares del Gabinete de Seguridad\, Ministro @Vi11atoro\, Ministro @merino_monroy  y @Director_PNC; presentarán a sujetos capturados por asaltar en unidad del transporte colectivo\, hecho que se viralizó en redes sociales.
URL:https://www.seguridad.gob.sv/actividades/convocatoria-de-prensa/
LOCATION:San Salvador
CATEGORIES:Conferencia de Prensa
ATTACH;FMTTYPE=image/jpeg:https://www.seguridad.gob.sv/wp-content/uploads/2021/12/FHGtPK9XoAMYaH3.jpg
ORGANIZER;CN="Ministerio%20de%20Justicia%20y%20Seguridad%20P%C3%BAbica":MAILTO:webmaster@seguridad.gob.sv
END:VEVENT
END:VCALENDAR