BEGIN:VCALENDAR
VERSION:2.0
PRODID:-//Ministerio de Seguridad Pública y Justicia - ECPv5.13.0//NONSGML v1.0//EN
CALSCALE:GREGORIAN
METHOD:PUBLISH
X-WR-CALNAME:Ministerio de Seguridad Pública y Justicia
X-ORIGINAL-URL:https://www.seguridad.gob.sv
X-WR-CALDESC:Events for Ministerio de Seguridad Pública y Justicia
REFRESH-INTERVAL;VALUE=DURATION:PT1H
X-Robots-Tag:noindex
X-PUBLISHED-TTL:PT1H
BEGIN:VTIMEZONE
TZID:America/Chicago
BEGIN:DAYLIGHT
TZOFFSETFROM:-0600
TZOFFSETTO:-0500
TZNAME:CDT
DTSTART:20220313T080000
END:DAYLIGHT
BEGIN:STANDARD
TZOFFSETFROM:-0500
TZOFFSETTO:-0600
TZNAME:CST
DTSTART:20221106T070000
END:STANDARD
END:VTIMEZONE
BEGIN:VEVENT
DTSTART;TZID=America/Chicago:20220303T120000
DTEND;TZID=America/Chicago:20220303T130000
DTSTAMP:20260423T234648
CREATED:20220303T153033Z
LAST-MODIFIED:20220303T153033Z
UID:3295-1646308800-1646312400@www.seguridad.gob.sv
SUMMARY:Conferencia de Prensa
DESCRIPTION:#ConvocatoriaDePrensa | Titulares del Gabinete de @SeguridadSV\, @PNCSV y @FGR_SV brindarán detalles de capturas realizadas en los últimos días.
URL:https://www.seguridad.gob.sv/actividades/convocatoria-de-prensa-7/
LOCATION:Nuevo Lourdes\, Colón\, Nuevo Lourdes\, Colón\, La Libertad\, La Libertad\, 503\, El Salvador
CATEGORIES:Conferencia de Prensa
ATTACH;FMTTYPE=image/jpeg:https://www.seguridad.gob.sv/wp-content/uploads/2022/03/FM7wvNEUUAcSThG.jpg
ORGANIZER;CN="Ministerio%20de%20Justicia%20y%20Seguridad%20P%C3%BAbica":MAILTO:webmaster@seguridad.gob.sv
END:VEVENT
BEGIN:VEVENT
DTSTART;TZID=America/Chicago:20220309T170000
DTEND;TZID=America/Chicago:20220309T180000
DTSTAMP:20260423T234648
CREATED:20220309T184936Z
LAST-MODIFIED:20220309T185124Z
UID:3322-1646845200-1646848800@www.seguridad.gob.sv
SUMMARY:Convocatoria de Prensa
DESCRIPTION:#ConvocatoriaDePrensa | Titulares del Gabinete de @SeguridadSV\, Ministro @Vi11atoro\, y @Director_PNC\, Comisionado Mauricio Arriaza Chicas; presidirán la entrega oficial de vehículos a  \n@PNCSV\, para uso de combate contra el crimen.
URL:https://www.seguridad.gob.sv/actividades/convocatoria-de-prensa-8/
LOCATION:Centro de Investigación Forense\, Nuevo Cuscatlán\, La Libertad\, La Libertad\, 503\, El Salvador
CATEGORIES:Conferencia de Prensa
ATTACH;FMTTYPE=image/jpeg:https://www.seguridad.gob.sv/wp-content/uploads/2022/03/ConvocatoriaPrensa.jpg
ORGANIZER;CN="Ministerio%20de%20Justicia%20y%20Seguridad%20P%C3%BAbica":MAILTO:webmaster@seguridad.gob.sv
END:VEVENT
BEGIN:VEVENT
DTSTART;TZID=America/Chicago:20220311T120000
DTEND;TZID=America/Chicago:20220311T130000
DTSTAMP:20260423T234648
CREATED:20220311T174917Z
LAST-MODIFIED:20220311T174936Z
UID:3336-1647000000-1647003600@www.seguridad.gob.sv
SUMMARY:Convocatoria de Prensa
DESCRIPTION:#ConvocatoriaDePrensa | Titulares del Gabinete de @SeguridadSV y @FGR_SV brindarán detalles de incautación efectuada esta madrugada en San Miguel.
URL:https://www.seguridad.gob.sv/actividades/convocatoria-de-prensa-9/
LOCATION:División Antinarcoticos de la PNC\, San Salvador\, San salvador\, 503\, El Salvador
CATEGORIES:Conferencia de Prensa
ATTACH;FMTTYPE=image/jpeg:https://www.seguridad.gob.sv/wp-content/uploads/2022/03/DAN.jpg
ORGANIZER;CN="Ministerio%20de%20Justicia%20y%20Seguridad%20P%C3%BAbica":MAILTO:webmaster@seguridad.gob.sv
END:VEVENT
BEGIN:VEVENT
DTSTART;TZID=America/Chicago:20220322T120000
DTEND;TZID=America/Chicago:20220322T130000
DTSTAMP:20260423T234648
CREATED:20220322T164315Z
LAST-MODIFIED:20220322T164315Z
UID:3435-1647950400-1647954000@www.seguridad.gob.sv
SUMMARY:Conferencia de Prensa
DESCRIPTION:#ConvocatoriaDePrensa | Titulares del Gabinete de Seguridad\, Ministro @Vi11atoro\, @Director_PNC  y @FiscalGeneralSV\, compartirán detalles sobre capturas realizadas en los últimos días.
URL:https://www.seguridad.gob.sv/actividades/conferencia-de-prensa-10/
LOCATION:Subdireccón de Investigaciones\, Calle el Progreso\, San Salvador\, Calle el Progreso\, San Salvador\, San Salvador\, 503\, El Salvador
CATEGORIES:Conferencia de Prensa
ATTACH;FMTTYPE=image/jpeg:https://www.seguridad.gob.sv/wp-content/uploads/2022/03/FOd7TfZWQBcv4Fa.jpg
ORGANIZER;CN="Ministerio%20de%20Justicia%20y%20Seguridad%20P%C3%BAbica":MAILTO:webmaster@seguridad.gob.sv
END:VEVENT
BEGIN:VEVENT
DTSTART;TZID=America/Chicago:20220330T153000
DTEND;TZID=America/Chicago:20220330T163000
DTSTAMP:20260423T234648
CREATED:20220330T211854Z
LAST-MODIFIED:20220330T211854Z
UID:3481-1648654200-1648657800@www.seguridad.gob.sv
SUMMARY:Convocatoria de Prensa
DESCRIPTION:#ConvocatoriaDePrensa | Titulares del Gabinete de @SeguridadSV\,  presentarán a la @AsambleaSV  anteproyecto de Ley que contiene medidas para reforzar el combate a las pandillas.
URL:https://www.seguridad.gob.sv/actividades/convocatoria-de-prensa-10/
LOCATION:Asamblea Legislativa\, 17 avenida norte\, San Salvador\, San Salvador\, 503\, El Salvador
CATEGORIES:Conferencia de Prensa
ATTACH;FMTTYPE=image/jpeg:https://www.seguridad.gob.sv/wp-content/uploads/2022/03/FPIGulnXsAkab64.jpg
ORGANIZER;CN="Ministerio%20de%20Justicia%20y%20Seguridad%20P%C3%BAbica":MAILTO:webmaster@seguridad.gob.sv
END:VEVENT
END:VCALENDAR