BEGIN:VCALENDAR
VERSION:2.0
PRODID:-//Ministerio de Seguridad Pública y Justicia - ECPv5.13.0//NONSGML v1.0//EN
CALSCALE:GREGORIAN
METHOD:PUBLISH
X-WR-CALNAME:Ministerio de Seguridad Pública y Justicia
X-ORIGINAL-URL:https://www.seguridad.gob.sv
X-WR-CALDESC:Events for Ministerio de Seguridad Pública y Justicia
REFRESH-INTERVAL;VALUE=DURATION:PT1H
X-Robots-Tag:noindex
X-PUBLISHED-TTL:PT1H
BEGIN:VTIMEZONE
TZID:America/Chicago
BEGIN:DAYLIGHT
TZOFFSETFROM:-0600
TZOFFSETTO:-0500
TZNAME:CDT
DTSTART:20220313T080000
END:DAYLIGHT
BEGIN:STANDARD
TZOFFSETFROM:-0500
TZOFFSETTO:-0600
TZNAME:CST
DTSTART:20221106T070000
END:STANDARD
END:VTIMEZONE
BEGIN:VEVENT
DTSTART;TZID=America/Chicago:20220816T143000
DTEND;TZID=America/Chicago:20220816T153000
DTSTAMP:20260423T121759
CREATED:20220816T165713Z
LAST-MODIFIED:20220816T170831Z
UID:5084-1660660200-1660663800@www.seguridad.gob.sv
SUMMARY:Convocatoria de Prensa
DESCRIPTION:El Gabinete de Seguridad presentará a la @AsambleaSV pieza de correspondencia que contiene la solicitud para una nueva prórroga del Régimen de Excepción.
URL:https://www.seguridad.gob.sv/actividades/convocatoria-de-prensa-21/
LOCATION:Asamblea Legislativa\, 17 avenida norte\, San Salvador\, San Salvador\, 503\, El Salvador
CATEGORIES:Conferencia de Prensa
ATTACH;FMTTYPE=image/jpeg:https://www.seguridad.gob.sv/wp-content/uploads/2022/08/FaTEKPuWIAA68Jy.jpg
ORGANIZER;CN="Ministerio%20de%20Justicia%20y%20Seguridad%20P%C3%BAbica":MAILTO:webmaster@seguridad.gob.sv
END:VEVENT
BEGIN:VEVENT
DTSTART;TZID=America/Chicago:20220824T120000
DTEND;TZID=America/Chicago:20220824T130000
DTSTAMP:20260423T121759
CREATED:20220824T171856Z
LAST-MODIFIED:20220824T171856Z
UID:5172-1661342400-1661346000@www.seguridad.gob.sv
SUMMARY:Convocatoria de Prensa
DESCRIPTION:Autoridades del Gabinete de Seguridad presentarán detalles sobre resultados de operativos ejecutados en las últimas horas.
URL:https://www.seguridad.gob.sv/actividades/convocatoria-de-prensa-22/
LOCATION:Subdireccón de Investigaciones\, Calle el Progreso\, San Salvador\, Calle el Progreso\, San Salvador\, San Salvador\, 503\, El Salvador
CATEGORIES:Conferencia de Prensa
ATTACH;FMTTYPE=image/jpeg:https://www.seguridad.gob.sv/wp-content/uploads/2022/08/Fa8NspuXwAAvN8v.jpg
ORGANIZER;CN="Ministerio%20de%20Justicia%20y%20Seguridad%20P%C3%BAbica":MAILTO:webmaster@seguridad.gob.sv
END:VEVENT
BEGIN:VEVENT
DTSTART;TZID=America/Chicago:20220830T100000
DTEND;TZID=America/Chicago:20220830T120000
DTSTAMP:20260423T121759
CREATED:20220830T131519Z
LAST-MODIFIED:20220830T131519Z
UID:5214-1661853600-1661860800@www.seguridad.gob.sv
SUMMARY:Convocatoria de Prensa
DESCRIPTION:Este día\, nuestro Ministro Gustavo @Vi11atoro  y @Director_PNC  realizarán la entrega de nuevo equipamiento a nuestra @PNCSV
URL:https://www.seguridad.gob.sv/actividades/convocatoria-de-prensa-23/
LOCATION:ANSP Comalapa\, San Luis Talpa\, Zacatecoluca\, San Luis Talpa\, El Salvador
CATEGORIES:Conferencia de Prensa
ATTACH;FMTTYPE=image/jpeg:https://www.seguridad.gob.sv/wp-content/uploads/2022/08/FbaSVc-XEAAK20_.jpg
ORGANIZER;CN="Ministerio%20de%20Justicia%20y%20Seguridad%20P%C3%BAbica":MAILTO:webmaster@seguridad.gob.sv
END:VEVENT
END:VCALENDAR